BEGIN:VCALENDAR
VERSION:2.0
METHOD:PUBLISH
PRODID:-//Missouri State University/Calendar of Events//EN
CALSCALE:GREGORIAN
X-WR-TIMEZONE:America/Chicago
BEGIN:VTIMEZONE
TZID:America/Chicago
BEGIN:DAYLIGHT
TZOFFSETFROM:-0600
TZOFFSETTO:-0500
DTSTART:20070311T020000
RRULE:FREQ=YEARLY;BYMONTH=3;BYDAY=2SU
TZNAME:CDT
END:DAYLIGHT
BEGIN:STANDARD
TZOFFSETFROM:-0500
TZOFFSETTO:-0600
DTSTART:20071104T020000
RRULE:FREQ=YEARLY;BYMONTH=11;BYDAY=1SU
TZNAME:CST
END:STANDARD
END:VTIMEZONE
BEGIN:VEVENT
UID:ce246099-fc9b-4961-90a7-c4e12c015feb.233349@calendar.missouristate.edu
CREATED:20231130T155816Z
LAST-MODIFIED:20231130T155816Z
LOCATION:Plaster Student Union\, Robert W. Ballroom
SUMMARY:CNAS Undergraduate Research Symposium
DESCRIPTION:All current CNAS undergraduate students and December 2023 grad
 uates are invited to submit a poster for the CNAS Undergraduate Research 
 Symposium.\n\n\nPresentations are refereed\, and awards are given for fir
 st place ($100) and second place ($50) for each CNAS department and the c
 ooperative engineering program.
X-ALT-DESC;FMTTYPE=text/html:&lt;html&gt;&lt;head&gt;&lt;title&gt;&lt;/title&gt;&lt;/head&gt;&lt;body&gt;&lt;p&gt;Al
 l current CNAS undergraduate students and December 2023 graduates are inv
 ited to submit a poster for the CNAS Undergraduate Research Symposium.&lt;/p
 &gt;\n&lt;p&gt;Presentations are refereed\, and awards are given for &lt;strong&gt;first
  place ($100) and second place ($50)&lt;/strong&gt; for each &lt;a href="https://s
 cience.missouristate.edu/departments.htm"&gt;CNAS department&lt;/a&gt; and the &lt;a 
 href="https://www.MissouriState.edu/EGR/default.htm"&gt;cooperative engineer
 ing program&lt;/a&gt;.&lt;/p&gt;\n&lt;p&gt;&lt;/p&gt;&lt;/body&gt;&lt;/html&gt;
DTSTART;TZID=America/Chicago:20240425T134500
DTEND;TZID=America/Chicago:20240425T160000
SEQUENCE:0
URL:https://science.missouristate.edu/Undergraduate-Research-Day.htm
CATEGORIES:Public,Alumni,Current Students,Faculty,Future Students,Staff
END:VEVENT
END:VCALENDAR