BEGIN:VCALENDAR
VERSION:2.0
METHOD:PUBLISH
PRODID:-//Missouri State University/Calendar of Events//EN
CALSCALE:GREGORIAN
X-WR-TIMEZONE:America/Chicago
BEGIN:VTIMEZONE
TZID:America/Chicago
BEGIN:DAYLIGHT
TZOFFSETFROM:-0600
TZOFFSETTO:-0500
DTSTART:20070311T020000
RRULE:FREQ=YEARLY;BYMONTH=3;BYDAY=2SU
TZNAME:CDT
END:DAYLIGHT
BEGIN:STANDARD
TZOFFSETFROM:-0500
TZOFFSETTO:-0600
DTSTART:20071104T020000
RRULE:FREQ=YEARLY;BYMONTH=11;BYDAY=1SU
TZNAME:CST
END:STANDARD
END:VTIMEZONE
BEGIN:VEVENT
UID:c6a26252-6e42-4609-9e45-b2b2c6718533.233355@calendar.missouristate.edu
CREATED:20231204T152955Z
LAST-MODIFIED:20231204T152955Z
LOCATION:
SUMMARY:SAC's Spring Concert
DESCRIPTION:Follow us @mostatesac on social media to hear about what artis
 t we're bringing to campus for our 2024 Spring Concert!
X-ALT-DESC;FMTTYPE=text/html:&lt;html&gt;&lt;head&gt;&lt;title&gt;&lt;/title&gt;&lt;/head&gt;&lt;body&gt;&lt;p&gt;&lt;s
 pan&gt;Follow us @mostatesac on social media to hear about what artist we're
  bringing to campus for our 2024 Spring Concert!&lt;/span&gt;&lt;/p&gt;&lt;/body&gt;&lt;/html&gt;
DTSTART;TZID=America/Chicago:20240417T190000
DTEND;TZID=America/Chicago:20240417T220000
SEQUENCE:0
URL:
CATEGORIES:Public,Current Students
END:VEVENT
END:VCALENDAR