BEGIN:VCALENDAR
VERSION:2.0
METHOD:PUBLISH
PRODID:-//Missouri State University/Calendar of Events//EN
CALSCALE:GREGORIAN
X-WR-TIMEZONE:America/Chicago
BEGIN:VTIMEZONE
TZID:America/Chicago
BEGIN:DAYLIGHT
TZOFFSETFROM:-0600
TZOFFSETTO:-0500
DTSTART:20070311T020000
RRULE:FREQ=YEARLY;BYMONTH=3;BYDAY=2SU
TZNAME:CDT
END:DAYLIGHT
BEGIN:STANDARD
TZOFFSETFROM:-0500
TZOFFSETTO:-0600
DTSTART:20071104T020000
RRULE:FREQ=YEARLY;BYMONTH=11;BYDAY=1SU
TZNAME:CST
END:STANDARD
END:VTIMEZONE
BEGIN:VEVENT
UID:e9189abe-9213-42ac-8e79-d5565d8319ad.233373@calendar.missouristate.edu
CREATED:20231205T200322Z
LAST-MODIFIED:20231205T200322Z
LOCATION:Plaster Student Union\, Robert W.
SUMMARY:39th Annual Showcase on Teaching and Learning 
DESCRIPTION:39th Annual Showcase on Teaching and Learning 
X-ALT-DESC;FMTTYPE=text/html:&lt;html&gt;&lt;head&gt;&lt;title&gt;&lt;/title&gt;&lt;/head&gt;&lt;body&gt;&lt;p&gt;39
 th Annual Showcase on Teaching and Learning&amp;nbsp\;&lt;/p&gt;&lt;/body&gt;&lt;/html&gt;
DTSTART;VALUE=DATE:20240814
DTEND;VALUE=DATE:20240815
SEQUENCE:0
URL:https://www.missouristate.edu/fctl/
CATEGORIES:Faculty,Staff
END:VEVENT
END:VCALENDAR