BEGIN:VCALENDAR
VERSION:2.0
METHOD:PUBLISH
PRODID:-//Missouri State University/Calendar of Events//EN
CALSCALE:GREGORIAN
X-WR-TIMEZONE:America/Chicago
BEGIN:VTIMEZONE
TZID:America/Chicago
BEGIN:DAYLIGHT
TZOFFSETFROM:-0600
TZOFFSETTO:-0500
DTSTART:20070311T020000
RRULE:FREQ=YEARLY;BYMONTH=3;BYDAY=2SU
TZNAME:CDT
END:DAYLIGHT
BEGIN:STANDARD
TZOFFSETFROM:-0500
TZOFFSETTO:-0600
DTSTART:20071104T020000
RRULE:FREQ=YEARLY;BYMONTH=11;BYDAY=1SU
TZNAME:CST
END:STANDARD
END:VTIMEZONE
BEGIN:VEVENT
UID:f97ba6ce-0d31-4910-8178-dcf269b5488d.233399@calendar.missouristate.edu
CREATED:20231208T061701Z
LAST-MODIFIED:20231208T061701Z
LOCATION:Springfield\, Betty &amp; Bobby Allison Sand Volleyball Courts
SUMMARY:Missouri State University Beach Volleyball vs Ottawa University (K
 an.) - Senior Day
DESCRIPTION:Missouri State University Beach Volleyball plays Ottawa Univer
 sity (Kan.) - Senior DayTV: ESPN3
X-ALT-DESC;FMTTYPE=text/html:&lt;html&gt;&lt;head&gt;&lt;title&gt;&lt;/title&gt;&lt;/head&gt;&lt;body&gt;Misso
 uri State University Beach Volleyball plays Ottawa University (Kan.) - Se
 nior Day&lt;br&gt;&lt;br&gt;TV: ESPN3&lt;/body&gt;&lt;/html&gt;
DTSTART;TZID=America/Chicago:20240406T130000
DTEND;TZID=America/Chicago:20240406T150000
SEQUENCE:2
URL:http://missouristatebears.com/index.aspx?path=wvball
CATEGORIES:Current Students,Future Students,Parents and Family,Alumni,
 Faculty,Staff,Community,Visitors,Athletics
END:VEVENT
END:VCALENDAR