BEGIN:VCALENDAR
VERSION:2.0
METHOD:PUBLISH
PRODID:-//Missouri State University/Calendar of Events//EN
CALSCALE:GREGORIAN
X-WR-TIMEZONE:America/Chicago
BEGIN:VTIMEZONE
TZID:America/Chicago
BEGIN:DAYLIGHT
TZOFFSETFROM:-0600
TZOFFSETTO:-0500
DTSTART:20070311T020000
RRULE:FREQ=YEARLY;BYMONTH=3;BYDAY=2SU
TZNAME:CDT
END:DAYLIGHT
BEGIN:STANDARD
TZOFFSETFROM:-0500
TZOFFSETTO:-0600
DTSTART:20071104T020000
RRULE:FREQ=YEARLY;BYMONTH=11;BYDAY=1SU
TZNAME:CST
END:STANDARD
END:VTIMEZONE
BEGIN:VEVENT
UID:323fbe7c-3172-44f2-877e-5cc75cfa8394_11103@calendar.missouristate.edu
CREATED:20231219T170459Z
LAST-MODIFIED:20231219T170459Z
LOCATION:Plaster Student Union\, Robert W.
SUMMARY:Family Weekend 2024
DESCRIPTION:We are excited to announce the date for Family Weekend 2024 - 
 Sept. 27-29!\n\n\nReserve your hotel and get excited about coming to camp
 us for this fun weekend. More information will be posted in the coming mo
 nths.\n\n\nIf you have questions\, contact Priscilla Childress at pchildr
 ess@missouristate.edu or by text at 417- 812-5468.
X-ALT-DESC;FMTTYPE=text/html:&lt;html&gt;&lt;head&gt;&lt;title&gt;&lt;/title&gt;&lt;/head&gt;&lt;body&gt;&lt;p&gt;We
  are excited to announce the date for Family Weekend 2024 - Sept. 27-29!&lt;
 /p&gt;\n&lt;p&gt;Reserve your hotel and get excited about coming to campus for thi
 s fun weekend. More information will be posted in the coming months.&lt;/p&gt;\
 n&lt;p&gt;If you have questions\, contact Priscilla Childress at &lt;a&gt;pchildress@
 missouristate.edu&lt;/a&gt; or by text at 417- 812-5468.&lt;/p&gt;&lt;/body&gt;&lt;/html&gt;
DTSTART;VALUE=DATE:20240927
DTEND;VALUE=DATE:20240928
RRULE:FREQ=WEEKLY;BYDAY=TH,FR;UNTIL=20240930
SEQUENCE:0
URL:https://www.missouristate.edu/BearsFamilies/familyweekend.htm
CATEGORIES:Public,Alumni,Current Students,Faculty,Staff
END:VEVENT
END:VCALENDAR