BEGIN:VCALENDAR
VERSION:2.0
METHOD:PUBLISH
PRODID:-//Missouri State University/Calendar of Events//EN
CALSCALE:GREGORIAN
X-WR-TIMEZONE:America/Chicago
BEGIN:VTIMEZONE
TZID:America/Chicago
BEGIN:DAYLIGHT
TZOFFSETFROM:-0600
TZOFFSETTO:-0500
DTSTART:20070311T020000
RRULE:FREQ=YEARLY;BYMONTH=3;BYDAY=2SU
TZNAME:CDT
END:DAYLIGHT
BEGIN:STANDARD
TZOFFSETFROM:-0500
TZOFFSETTO:-0600
DTSTART:20071104T020000
RRULE:FREQ=YEARLY;BYMONTH=11;BYDAY=1SU
TZNAME:CST
END:STANDARD
END:VTIMEZONE
BEGIN:VEVENT
UID:05f7e623-2312-4752-8bce-23acd0d60301.233416@calendar.missouristate.edu
CREATED:20231211T152938Z
LAST-MODIFIED:20231211T152938Z
LOCATION:West Mall (Fountain)
SUMMARY:Light the World Chalkboard!!!
DESCRIPTION:This chalkboard is designed to promote positivity amongst stud
 ents. We hope to encourage them to do their part to "Light the World" thr
 ough kindness amongst the community!
X-ALT-DESC;FMTTYPE=text/html:&lt;html&gt;&lt;head&gt;&lt;title&gt;&lt;/title&gt;&lt;/head&gt;&lt;body&gt;&lt;p&gt;Th
 is chalkboard is designed to promote positivity amongst students. We hope
  to encourage them to do their part to "Light the World" through kindness
  amongst the community!&lt;/p&gt;&lt;/body&gt;&lt;/html&gt;
DTSTART;TZID=America/Chicago:20231211T130000
DTEND;TZID=America/Chicago:20231211T160000
SEQUENCE:0
URL:https://calendar.missouristate.edu/viewevent.aspx?eventid=122652&amp;occur
 renceid=233416
CATEGORIES:Public,Current Students
END:VEVENT
END:VCALENDAR