BEGIN:VCALENDAR
VERSION:2.0
METHOD:PUBLISH
PRODID:-//Missouri State University/Calendar of Events//EN
CALSCALE:GREGORIAN
X-WR-TIMEZONE:America/Chicago
BEGIN:VTIMEZONE
TZID:America/Chicago
BEGIN:DAYLIGHT
TZOFFSETFROM:-0600
TZOFFSETTO:-0500
DTSTART:20070311T020000
RRULE:FREQ=YEARLY;BYMONTH=3;BYDAY=2SU
TZNAME:CDT
END:DAYLIGHT
BEGIN:STANDARD
TZOFFSETFROM:-0500
TZOFFSETTO:-0600
DTSTART:20071104T020000
RRULE:FREQ=YEARLY;BYMONTH=11;BYDAY=1SU
TZNAME:CST
END:STANDARD
END:VTIMEZONE
BEGIN:VEVENT
UID:b9510fbf-2b6e-4dd9-aeb9-f896bbaac7df.233419@calendar.missouristate.edu
CREATED:20231211T201753Z
LAST-MODIFIED:20231211T201753Z
LOCATION:Great Southern Bank Arena
SUMMARY:Fall 2023 Commencement
DESCRIPTION:Join us for the Missouri State University fall 2023 commenceme
 nt.
X-ALT-DESC;FMTTYPE=text/html:&lt;html&gt;&lt;head&gt;&lt;title&gt;&lt;/title&gt;&lt;/head&gt;&lt;body&gt;&lt;p&gt;&lt;s
 pan&gt;Join us for the Missouri State University fall 2023 &lt;a href="https://
 www.missouristate.edu/Commencement/fall-2023-commencement.htm"&gt;c&lt;/a&gt;&lt;/spa
 n&gt;&lt;a href="https://www.missouristate.edu/Commencement/fall-2023-commencem
 ent.htm"&gt;ommencement&lt;/a&gt;&lt;span color="#0a0a0a"&gt;&lt;span&gt;.&lt;/span&gt;&lt;/span&gt;&lt;/p&gt;&lt;/
 body&gt;&lt;/html&gt;
DTSTART;VALUE=DATE:20231215
DTEND;VALUE=DATE:20231216
SEQUENCE:0
URL:https://www.missouristate.edu/Commencement/fall-2023-commencement.htm
CATEGORIES:Public,Alumni,Current Students,Faculty,Staff
END:VEVENT
END:VCALENDAR