BEGIN:VCALENDAR
VERSION:2.0
METHOD:PUBLISH
PRODID:-//Missouri State University/Calendar of Events//EN
CALSCALE:GREGORIAN
X-WR-TIMEZONE:America/Chicago
BEGIN:VTIMEZONE
TZID:America/Chicago
BEGIN:DAYLIGHT
TZOFFSETFROM:-0600
TZOFFSETTO:-0500
DTSTART:20070311T020000
RRULE:FREQ=YEARLY;BYMONTH=3;BYDAY=2SU
TZNAME:CDT
END:DAYLIGHT
BEGIN:STANDARD
TZOFFSETFROM:-0500
TZOFFSETTO:-0600
DTSTART:20071104T020000
RRULE:FREQ=YEARLY;BYMONTH=11;BYDAY=1SU
TZNAME:CST
END:STANDARD
END:VTIMEZONE
BEGIN:VEVENT
UID:04bfea51-3e7c-4db4-aa35-93aab525205d.233434@calendar.missouristate.edu
CREATED:20240108T190234Z
LAST-MODIFIED:20240108T190234Z
LOCATION:Plaster Free Enterprise Center\, Robert W.
SUMMARY:High Performance Supervision
DESCRIPTION:To achieve as a supervisor\, you need to have a fundamental un
 derstanding of the core competencies in supervising employees. To be succ
 essful in keeping worker performance high\, a supervisor must understand 
 and know how to motivate people\, solve problems\, delegate and manage wo
 rk load priorities. In this seminar\, you will learn proven\, results-ori
 ented skills every supervisor needs to know to be successful.This seminar
  is ideal for first-level\, newly appointed supervisors or experienced su
 pervisors wanting to update their skills. Practical case studies\, exerci
 ses and applications are incorporated to enhance the application of the c
 ore supervision competencies covered during the class.
X-ALT-DESC;FMTTYPE=text/html:&lt;html&gt;&lt;head&gt;&lt;title&gt;&lt;/title&gt;&lt;/head&gt;&lt;body&gt;&lt;p&gt;&lt;s
 pan&gt;To achieve as a supervisor\, you need to have a fundamental understan
 ding of the core competencies in supervising employees. To be successful 
 in keeping worker performance high\, a supervisor must understand and kno
 w how to motivate people\, solve problems\, delegate and manage work load
  priorities. In this seminar\, you will learn proven\, results-oriented s
 kills every supervisor needs to know to be successful.&lt;/span&gt;&lt;br&gt;&lt;br&gt;&lt;spa
 n&gt;This seminar is ideal for first-level\, newly appointed supervisors or 
 experienced supervisors wanting to update their skills. Practical case st
 udies\, exercises and applications are incorporated to enhance the applic
 ation of the core supervision competencies covered during the class.&lt;/spa
 n&gt;&lt;/p&gt;&lt;/body&gt;&lt;/html&gt;
DTSTART;TZID=America/Chicago:20240327T090000
DTEND;TZID=America/Chicago:20240327T160000
SEQUENCE:0
URL:https://missouri.ecenterdirect.com/events/24981
CATEGORIES:Public
END:VEVENT
END:VCALENDAR