BEGIN:VCALENDAR
VERSION:2.0
METHOD:PUBLISH
PRODID:-//Missouri State University/Calendar of Events//EN
CALSCALE:GREGORIAN
X-WR-TIMEZONE:America/Chicago
BEGIN:VTIMEZONE
TZID:America/Chicago
BEGIN:DAYLIGHT
TZOFFSETFROM:-0600
TZOFFSETTO:-0500
DTSTART:20070311T020000
RRULE:FREQ=YEARLY;BYMONTH=3;BYDAY=2SU
TZNAME:CDT
END:DAYLIGHT
BEGIN:STANDARD
TZOFFSETFROM:-0500
TZOFFSETTO:-0600
DTSTART:20071104T020000
RRULE:FREQ=YEARLY;BYMONTH=11;BYDAY=1SU
TZNAME:CST
END:STANDARD
END:VTIMEZONE
BEGIN:VEVENT
UID:d720a8be-c74d-4400-b964-ffe1a2116c28.233435@calendar.missouristate.edu
CREATED:20240108T190327Z
LAST-MODIFIED:20240108T190327Z
LOCATION:Plaster Free Enterprise Center\, Robert W.
SUMMARY:Coaching and Mentoring to Accelerate Potential
DESCRIPTION:Coaching can close the gap between acceptable and superior per
 formance. Attend this seminar to learn the skills that professional coach
 es use to cultivate responsibility\, innovation\, energy and commitment. 
 This seminar will equip you with coaching and mentoring methods that will
  transform a team or individual to new heights of improved performance. I
 n addition\, you also will learn how to deal with confronting problem emp
 loyees.
X-ALT-DESC;FMTTYPE=text/html:&lt;html&gt;&lt;head&gt;&lt;title&gt;&lt;/title&gt;&lt;/head&gt;&lt;body&gt;&lt;p&gt;&lt;s
 pan&gt;Coaching can close the gap between acceptable and superior performanc
 e. Attend this seminar to learn the skills that professional coaches use 
 to cultivate responsibility\, innovation\, energy and commitment. This se
 minar will equip you with coaching and mentoring methods that will transf
 orm a team or individual to new heights of improved performance. In addit
 ion\, you also will learn how to deal with confronting problem employees.
 &lt;/span&gt;&lt;/p&gt;&lt;/body&gt;&lt;/html&gt;
DTSTART;TZID=America/Chicago:20240423T090000
DTEND;TZID=America/Chicago:20240423T160000
SEQUENCE:0
URL:https://missouri.ecenterdirect.com/events/24982
CATEGORIES:Public
END:VEVENT
END:VCALENDAR