BEGIN:VCALENDAR
VERSION:2.0
METHOD:PUBLISH
PRODID:-//Missouri State University/Calendar of Events//EN
CALSCALE:GREGORIAN
X-WR-TIMEZONE:America/Chicago
BEGIN:VTIMEZONE
TZID:America/Chicago
BEGIN:DAYLIGHT
TZOFFSETFROM:-0600
TZOFFSETTO:-0500
DTSTART:20070311T020000
RRULE:FREQ=YEARLY;BYMONTH=3;BYDAY=2SU
TZNAME:CDT
END:DAYLIGHT
BEGIN:STANDARD
TZOFFSETFROM:-0500
TZOFFSETTO:-0600
DTSTART:20071104T020000
RRULE:FREQ=YEARLY;BYMONTH=11;BYDAY=1SU
TZNAME:CST
END:STANDARD
END:VTIMEZONE
BEGIN:VEVENT
UID:5aac9604-dc03-45f8-bd8d-d0f24e989de8.233436@calendar.missouristate.edu
CREATED:20240108T190453Z
LAST-MODIFIED:20240108T190453Z
LOCATION:Plaster Free Enterprise Center\, Robert W.
SUMMARY:Conducting Effective Internal Investigations
DESCRIPTION:Get your step-by-step guide to conducting a thorough\, legally
  compliant internal investigation.\n\n\n Supervisors\, managers and HR pr
 ofessionals need to know the proper strategies and techniques to investig
 ate workplace situations in a timely\, unbiased manner. A proper investig
 ation can be your number one defense against legal risk and liability! In
  this seminar\, you will be provided with templates\, sample interview qu
 estions and proven techniques to help you navigate confidential investiga
 tions in your company.
X-ALT-DESC;FMTTYPE=text/html:&lt;html&gt;&lt;head&gt;&lt;title&gt;&lt;/title&gt;&lt;/head&gt;&lt;body&gt;&lt;p&gt;&lt;s
 pan&gt;Get your step-by-step guide to conducting a thorough\, legally compli
 ant internal investigation.&lt;/span&gt;&lt;/p&gt;\n&lt;p&gt;&lt;span&gt; Supervisors\, managers 
 and HR professionals need to know the proper strategies and techniques to
  investigate workplace situations in a timely\, unbiased manner. A proper
  investigation can be your number one defense against legal risk and liab
 ility! In this seminar\, you will be provided with templates\, sample int
 erview questions and proven techniques to help you navigate confidential 
 investigations in your company.&lt;/span&gt;&lt;/p&gt;&lt;/body&gt;&lt;/html&gt;
DTSTART;TZID=America/Chicago:20240508T090000
DTEND;TZID=America/Chicago:20240508T160000
SEQUENCE:0
URL:https://missouri.ecenterdirect.com/events/24983
CATEGORIES:Public
END:VEVENT
END:VCALENDAR