BEGIN:VCALENDAR
VERSION:2.0
METHOD:PUBLISH
PRODID:-//Missouri State University/Calendar of Events//EN
CALSCALE:GREGORIAN
X-WR-TIMEZONE:America/Chicago
BEGIN:VTIMEZONE
TZID:America/Chicago
BEGIN:DAYLIGHT
TZOFFSETFROM:-0600
TZOFFSETTO:-0500
DTSTART:20070311T020000
RRULE:FREQ=YEARLY;BYMONTH=3;BYDAY=2SU
TZNAME:CDT
END:DAYLIGHT
BEGIN:STANDARD
TZOFFSETFROM:-0500
TZOFFSETTO:-0600
DTSTART:20071104T020000
RRULE:FREQ=YEARLY;BYMONTH=11;BYDAY=1SU
TZNAME:CST
END:STANDARD
END:VTIMEZONE
BEGIN:VEVENT
UID:54772c14-2450-4528-b53c-56ae32598bdf.233438@calendar.missouristate.edu
CREATED:20240108T190601Z
LAST-MODIFIED:20240108T190601Z
LOCATION:Plaster Free Enterprise Center\, Robert W.
SUMMARY:Successful Project Management - Two-Day Program
DESCRIPTION:Managers are constantly called upon to manage projects or to b
 e part of a project team. The effective management of projects – completi
 on within a deadline and a budget\, subject to performance criteria – is 
 the cornerstone for business success. All projects are undertaken to achi
 eve specific results and need a framework to help accomplish an important
  new objective\; face new challenges and organizational structures\, defi
 ne objectives\, communicate and instruct.
X-ALT-DESC;FMTTYPE=text/html:&lt;html&gt;&lt;head&gt;&lt;title&gt;&lt;/title&gt;&lt;/head&gt;&lt;body&gt;&lt;p&gt;&lt;s
 pan&gt;Managers are constantly called upon to manage projects or to be part 
 of a project team. The effective management of projects – completion with
 in a deadline and a budget\, subject to performance criteria – is the cor
 nerstone for business success. All projects are undertaken to achieve spe
 cific results and need a framework to help accomplish an important new ob
 jective\; face new challenges and organizational structures\, define obje
 ctives\, communicate and instruct.&lt;/span&gt;&lt;/p&gt;&lt;/body&gt;&lt;/html&gt;
DTSTART;TZID=America/Chicago:20240509T090000
DTEND;TZID=America/Chicago:20240509T160000
SEQUENCE:0
URL:https://missouri.ecenterdirect.com/events/24985
CATEGORIES:Public
END:VEVENT
END:VCALENDAR