BEGIN:VCALENDAR
VERSION:2.0
METHOD:PUBLISH
PRODID:-//Missouri State University/Calendar of Events//EN
CALSCALE:GREGORIAN
X-WR-TIMEZONE:America/Chicago
BEGIN:VTIMEZONE
TZID:America/Chicago
BEGIN:DAYLIGHT
TZOFFSETFROM:-0600
TZOFFSETTO:-0500
DTSTART:20070311T020000
RRULE:FREQ=YEARLY;BYMONTH=3;BYDAY=2SU
TZNAME:CDT
END:DAYLIGHT
BEGIN:STANDARD
TZOFFSETFROM:-0500
TZOFFSETTO:-0600
DTSTART:20071104T020000
RRULE:FREQ=YEARLY;BYMONTH=11;BYDAY=1SU
TZNAME:CST
END:STANDARD
END:VTIMEZONE
BEGIN:VEVENT
UID:c4e0a74a-b7f0-4aea-95b5-09a59891bf1f.233439@calendar.missouristate.edu
CREATED:20231219T183210Z
LAST-MODIFIED:20231219T183210Z
LOCATION:Hammons Hall for the Performing Arts\, Juanita K.
SUMMARY:An Evening with Danica Patrick
DESCRIPTION:The Missouri State University Foundation invites you to an eve
 ning with Danica Patrick\, former professional racing driver and women’s 
 advocate. Her public keynote presentation begins at 7 p.m.
X-ALT-DESC;FMTTYPE=text/html:&lt;html&gt;&lt;head&gt;&lt;title&gt;&lt;/title&gt;&lt;/head&gt;&lt;body&gt;&lt;p&gt;Th
 e Missouri State University Foundation invites you to an evening with Dan
 ica Patrick\, former professional racing driver and women’s advocate. Her
  public keynote presentation begins at 7 p.m.&lt;/p&gt;&lt;/body&gt;&lt;/html&gt;
DTSTART;TZID=America/Chicago:20240228T190000
DTEND;TZID=America/Chicago:20240228T200000
SEQUENCE:0
URL:https://missouristate.imodules.com?sid=1691&amp;gid=2&amp;pgid=3473&amp;cid=6060&amp;e
 cid=6060&amp;ciid=21942&amp;crid=0
CATEGORIES:Public,Alumni,Parents And Family,Visitors
END:VEVENT
END:VCALENDAR