BEGIN:VCALENDAR
VERSION:2.0
METHOD:PUBLISH
PRODID:-//Missouri State University/Calendar of Events//EN
CALSCALE:GREGORIAN
X-WR-TIMEZONE:America/Chicago
BEGIN:VTIMEZONE
TZID:America/Chicago
BEGIN:DAYLIGHT
TZOFFSETFROM:-0600
TZOFFSETTO:-0500
DTSTART:20070311T020000
RRULE:FREQ=YEARLY;BYMONTH=3;BYDAY=2SU
TZNAME:CDT
END:DAYLIGHT
BEGIN:STANDARD
TZOFFSETFROM:-0500
TZOFFSETTO:-0600
DTSTART:20071104T020000
RRULE:FREQ=YEARLY;BYMONTH=11;BYDAY=1SU
TZNAME:CST
END:STANDARD
END:VTIMEZONE
BEGIN:VEVENT
UID:c8fe85d6-ba40-4996-b0bb-68e04b4d6577.233460@calendar.missouristate.edu
CREATED:20231215T125158Z
LAST-MODIFIED:20231215T125158Z
LOCATION:Plaster Student Union\, Robert W. Atrium
SUMMARY:2024 Education Abroad Fair
DESCRIPTION:Join us for the Education Abroad Fair to learn more about stud
 y abroad options available through Missouri State University. Program pro
 vider representatives and faculty directors of short-term programs will b
 e available to answer specific questions about their programs. Eligible s
 tudents can study abroad for one week up to one year\, earn academic cred
 it and use their financial aid and special study abroad scholarships. Pic
 k up some door prizes while you're at our event!
X-ALT-DESC;FMTTYPE=text/html:&lt;html&gt;&lt;head&gt;&lt;title&gt;&lt;/title&gt;&lt;/head&gt;&lt;body&gt;&lt;p&gt;Jo
 in us for the &lt;strong&gt;Education Abroad Fair&lt;/strong&gt; to learn more about 
 study abroad options available through Missouri State University. Program
  provider representatives and faculty directors of short-term programs wi
 ll be available to answer specific questions about their programs. Eligib
 le students can study abroad for one week up to one year\, earn academic 
 credit and use their financial aid and special study abroad scholarships.
  Pick up some door prizes while you're at our event!&lt;/p&gt;&lt;/body&gt;&lt;/html&gt;
DTSTART;TZID=America/Chicago:20240918T110000
DTEND;TZID=America/Chicago:20240918T140000
SEQUENCE:0
URL:122669.jpg
CATEGORIES:Current Students,Future Students
END:VEVENT
END:VCALENDAR