BEGIN:VCALENDAR
VERSION:2.0
METHOD:PUBLISH
PRODID:-//Missouri State University/Calendar of Events//EN
CALSCALE:GREGORIAN
X-WR-TIMEZONE:America/Chicago
BEGIN:VTIMEZONE
TZID:America/Chicago
BEGIN:DAYLIGHT
TZOFFSETFROM:-0600
TZOFFSETTO:-0500
DTSTART:20070311T020000
RRULE:FREQ=YEARLY;BYMONTH=3;BYDAY=2SU
TZNAME:CDT
END:DAYLIGHT
BEGIN:STANDARD
TZOFFSETFROM:-0500
TZOFFSETTO:-0600
DTSTART:20071104T020000
RRULE:FREQ=YEARLY;BYMONTH=11;BYDAY=1SU
TZNAME:CST
END:STANDARD
END:VTIMEZONE
BEGIN:VEVENT
UID:44f64b5f-e705-4f53-a673-bb7e9766cde4.233468@calendar.missouristate.edu
CREATED:20231214T162600Z
LAST-MODIFIED:20231214T162600Z
LOCATION:Plaster Student Union\, Robert W. 101- MRC
SUMMARY:ChaTea Time 
DESCRIPTION:Travel the world by tasting Native American teas. Pop into the
  MRC for some tea\, snacks\, and a chance to get to know the MRC staff &amp; 
 ask questions.
X-ALT-DESC;FMTTYPE=text/html:&lt;html&gt;&lt;head&gt;&lt;title&gt;&lt;/title&gt;&lt;/head&gt;&lt;body&gt;&lt;div&gt;
 &lt;span&gt;&lt;/span&gt;\n&lt;p&gt;Travel the world by tasting Native American teas. Pop i
 nto the MRC for some tea\, snacks\, and a chance to get to know the MRC s
 taff &amp;amp\; ask questions.&lt;/p&gt;\n&lt;/div&gt;&lt;/body&gt;&lt;/html&gt;
DTSTART;TZID=America/Chicago:20240125T140000
DTEND;TZID=America/Chicago:20240125T160000
SEQUENCE:0
URL:
CATEGORIES:Current Students,Faculty,Staff
END:VEVENT
END:VCALENDAR