BEGIN:VCALENDAR
VERSION:2.0
METHOD:PUBLISH
PRODID:-//Missouri State University/Calendar of Events//EN
CALSCALE:GREGORIAN
X-WR-TIMEZONE:America/Chicago
BEGIN:VTIMEZONE
TZID:America/Chicago
BEGIN:DAYLIGHT
TZOFFSETFROM:-0600
TZOFFSETTO:-0500
DTSTART:20070311T020000
RRULE:FREQ=YEARLY;BYMONTH=3;BYDAY=2SU
TZNAME:CDT
END:DAYLIGHT
BEGIN:STANDARD
TZOFFSETFROM:-0500
TZOFFSETTO:-0600
DTSTART:20071104T020000
RRULE:FREQ=YEARLY;BYMONTH=11;BYDAY=1SU
TZNAME:CST
END:STANDARD
END:VTIMEZONE
BEGIN:VEVENT
UID:c27e674c-ed9a-41ad-8830-84d3a17e8d3b.233471@calendar.missouristate.edu
CREATED:20231214T163409Z
LAST-MODIFIED:20231214T163409Z
LOCATION:Plaster Student Union\, Robert W. PSU 315
SUMMARY:Multicultural Love Panel
DESCRIPTION:Listen to our panelists discuss multicultural love and hear fr
 om couples of different identities and generations. Faculty &amp; Staff are w
 elcome to join.
X-ALT-DESC;FMTTYPE=text/html:&lt;html&gt;&lt;head&gt;&lt;title&gt;&lt;/title&gt;&lt;/head&gt;&lt;body&gt;&lt;div&gt;
 &lt;span&gt;&lt;/span&gt;\n&lt;p&gt;Listen to our panelists discuss multicultural love and 
 hear from couples of different identities and generations. Faculty &amp;amp\;
  Staff are welcome to join.&lt;/p&gt;\n&lt;/div&gt;&lt;/body&gt;&lt;/html&gt;
DTSTART;TZID=America/Chicago:20240206T170000
DTEND;TZID=America/Chicago:20240206T183000
SEQUENCE:0
URL:https://calendar.missouristate.edu/viewevent.aspx?eventid=122680&amp;occur
 renceid=233471
CATEGORIES:Current Students,Faculty,Staff
END:VEVENT
END:VCALENDAR