BEGIN:VCALENDAR
VERSION:2.0
METHOD:PUBLISH
PRODID:-//Missouri State University/Calendar of Events//EN
CALSCALE:GREGORIAN
X-WR-TIMEZONE:America/Chicago
BEGIN:VTIMEZONE
TZID:America/Chicago
BEGIN:DAYLIGHT
TZOFFSETFROM:-0600
TZOFFSETTO:-0500
DTSTART:20070311T020000
RRULE:FREQ=YEARLY;BYMONTH=3;BYDAY=2SU
TZNAME:CDT
END:DAYLIGHT
BEGIN:STANDARD
TZOFFSETFROM:-0500
TZOFFSETTO:-0600
DTSTART:20071104T020000
RRULE:FREQ=YEARLY;BYMONTH=11;BYDAY=1SU
TZNAME:CST
END:STANDARD
END:VTIMEZONE
BEGIN:VEVENT
UID:4bdf8640-a6c5-496a-913c-9de90e796753.233473@calendar.missouristate.edu
CREATED:20231214T164557Z
LAST-MODIFIED:20231214T164557Z
LOCATION:Plaster Student Union\, Robert W. Food court 2nd floor
SUMMARY:Canvas Painting 
DESCRIPTION:Take on the task of painting a one-of-a-kind masterpiece while
  enjoying and singing along to hip-hop and R&amp;B music.
X-ALT-DESC;FMTTYPE=text/html:&lt;html&gt;&lt;head&gt;&lt;title&gt;&lt;/title&gt;&lt;/head&gt;&lt;body&gt;&lt;p&gt;Ta
 ke on the task of painting a one-of-a-kind masterpiece while enjoying and
  singing along to hip-hop and R&amp;amp\;B music.&lt;/p&gt;&lt;/body&gt;&lt;/html&gt;
DTSTART;TZID=America/Chicago:20240215T173000
DTEND;TZID=America/Chicago:20240215T190000
SEQUENCE:0
URL:https://calendar.missouristate.edu/viewevent.aspx?eventid=122682&amp;occur
 renceid=233473
CATEGORIES:Current Students,Faculty,Staff
END:VEVENT
END:VCALENDAR