BEGIN:VCALENDAR
VERSION:2.0
METHOD:PUBLISH
PRODID:-//Missouri State University/Calendar of Events//EN
CALSCALE:GREGORIAN
X-WR-TIMEZONE:America/Chicago
BEGIN:VTIMEZONE
TZID:America/Chicago
BEGIN:DAYLIGHT
TZOFFSETFROM:-0600
TZOFFSETTO:-0500
DTSTART:20070311T020000
RRULE:FREQ=YEARLY;BYMONTH=3;BYDAY=2SU
TZNAME:CDT
END:DAYLIGHT
BEGIN:STANDARD
TZOFFSETFROM:-0500
TZOFFSETTO:-0600
DTSTART:20071104T020000
RRULE:FREQ=YEARLY;BYMONTH=11;BYDAY=1SU
TZNAME:CST
END:STANDARD
END:VTIMEZONE
BEGIN:VEVENT
UID:53310a3c-2411-4daa-b1ca-880d4ab57e35.233474@calendar.missouristate.edu
CREATED:20231214T164125Z
LAST-MODIFIED:20231214T164125Z
LOCATION:Plaster Student Union\, Robert W. Theatre
SUMMARY:Movie Night with SAC
DESCRIPTION:Watch a LGBTQ+ friendly movie and enjoy some snacks! Sponsored
  by SAC &amp; MRC. All is welcome!
X-ALT-DESC;FMTTYPE=text/html:&lt;html&gt;&lt;head&gt;&lt;title&gt;&lt;/title&gt;&lt;/head&gt;&lt;body&gt;&lt;p&gt;Wa
 tch a LGBTQ+ friendly movie and enjoy some snacks! Sponsored by SAC &amp;amp\
 ; MRC. All is welcome!&lt;/p&gt;\n&lt;p&gt;&lt;span&gt;&lt;/span&gt;&lt;/p&gt;&lt;/body&gt;&lt;/html&gt;
DTSTART;TZID=America/Chicago:20240216T190000
DTEND;TZID=America/Chicago:20240216T210000
SEQUENCE:0
URL:https://calendar.missouristate.edu/viewevent.aspx?eventid=122683&amp;occur
 renceid=233474
CATEGORIES:Current Students,Faculty,Staff
END:VEVENT
END:VCALENDAR