BEGIN:VCALENDAR
VERSION:2.0
METHOD:PUBLISH
PRODID:-//Missouri State University/Calendar of Events//EN
CALSCALE:GREGORIAN
X-WR-TIMEZONE:America/Chicago
BEGIN:VTIMEZONE
TZID:America/Chicago
BEGIN:DAYLIGHT
TZOFFSETFROM:-0600
TZOFFSETTO:-0500
DTSTART:20070311T020000
RRULE:FREQ=YEARLY;BYMONTH=3;BYDAY=2SU
TZNAME:CDT
END:DAYLIGHT
BEGIN:STANDARD
TZOFFSETFROM:-0500
TZOFFSETTO:-0600
DTSTART:20071104T020000
RRULE:FREQ=YEARLY;BYMONTH=11;BYDAY=1SU
TZNAME:CST
END:STANDARD
END:VTIMEZONE
BEGIN:VEVENT
UID:c7058999-dc8b-47f2-820c-5dd7e30097de.233475@calendar.missouristate.edu
CREATED:20240209T214016Z
LAST-MODIFIED:20240209T214016Z
LOCATION:Plaster Student Union\, Robert W. Theatre
SUMMARY:Black History Month Speaker Night with SAC: Dr. Karlos Hill
DESCRIPTION:Hear from our Black History Month speaker\, Dr. Karlos Hill. H
 e is Regents’ Professor of the Clara Luper Department of African and Afri
 can American Studies at the University of Oklahoma.\n\n\nHill has authore
 d three books: "Beyond The Rope: The Impact of Lynching on Black Culture 
 and Memory\," "The Murder of Emmett Till: A Graphic History" and "The 192
 1 Tulsa Race Massacre: A Photographic History."\n\n\nSponsored by Student
  Activities Council and the Multicultural Resource Center. Faculty and st
 aff are welcome to join.
X-ALT-DESC;FMTTYPE=text/html:&lt;html&gt;&lt;head&gt;&lt;title&gt;&lt;/title&gt;&lt;/head&gt;&lt;body&gt;&lt;p&gt;He
 ar from our Black History Month speaker\, &lt;a href="https://www.ou.edu/cas
 /afam/faculty-staff/dr--karlos-hill"&gt;Dr. Karlos Hill&lt;/a&gt;. He is Regents’ 
 Professor of the Clara Luper Department of African and African American S
 tudies at the University of Oklahoma.&lt;/p&gt;\n&lt;p&gt;Hill has authored three boo
 ks: "Beyond The Rope: The Impact of Lynching on Black Culture and Memory\
 ," "The Murder of Emmett Till: A Graphic History" and "The 1921 Tulsa Rac
 e Massacre: A Photographic History."&lt;/p&gt;\n&lt;p&gt;Sponsored by Student Activit
 ies Council and the Multicultural Resource Center. Faculty and staff are 
 welcome to join.&lt;/p&gt;&lt;/body&gt;&lt;/html&gt;
DTSTART;TZID=America/Chicago:20240220T190000
DTEND;TZID=America/Chicago:20240220T200000
SEQUENCE:0
URL:122684.jpg
CATEGORIES:Current Students,Faculty,Staff
END:VEVENT
END:VCALENDAR