BEGIN:VCALENDAR
VERSION:2.0
METHOD:PUBLISH
PRODID:-//Missouri State University/Calendar of Events//EN
CALSCALE:GREGORIAN
X-WR-TIMEZONE:America/Chicago
BEGIN:VTIMEZONE
TZID:America/Chicago
BEGIN:DAYLIGHT
TZOFFSETFROM:-0600
TZOFFSETTO:-0500
DTSTART:20070311T020000
RRULE:FREQ=YEARLY;BYMONTH=3;BYDAY=2SU
TZNAME:CDT
END:DAYLIGHT
BEGIN:STANDARD
TZOFFSETFROM:-0500
TZOFFSETTO:-0600
DTSTART:20071104T020000
RRULE:FREQ=YEARLY;BYMONTH=11;BYDAY=1SU
TZNAME:CST
END:STANDARD
END:VTIMEZONE
BEGIN:VEVENT
UID:c2273f36-183a-48d6-823e-d332c4db3935.233476@calendar.missouristate.edu
CREATED:20231214T182133Z
LAST-MODIFIED:20231214T182133Z
LOCATION:Plaster Student Union\, Robert W. 101- MRC
SUMMARY:Love\, Sex\, &amp; Relationships 
DESCRIPTION:Partnered with MSU’s Psychology department\, come discuss the 
 depths between love\, sex\, and relationships!
X-ALT-DESC;FMTTYPE=text/html:&lt;html&gt;&lt;head&gt;&lt;title&gt;&lt;/title&gt;&lt;/head&gt;&lt;body&gt;&lt;p&gt;Pa
 rtnered with MSU’s Psychology department\, come discuss the depths betwee
 n love\, sex\, and relationships!&lt;/p&gt;&lt;/body&gt;&lt;/html&gt;
DTSTART;TZID=America/Chicago:20240221T150000
DTEND;TZID=America/Chicago:20240221T160000
SEQUENCE:0
URL:https://calendar.missouristate.edu/viewevent.aspx?eventid=122685&amp;occur
 renceid=233476
CATEGORIES:Current Students
END:VEVENT
END:VCALENDAR