BEGIN:VCALENDAR
VERSION:2.0
METHOD:PUBLISH
PRODID:-//Missouri State University/Calendar of Events//EN
CALSCALE:GREGORIAN
X-WR-TIMEZONE:America/Chicago
BEGIN:VTIMEZONE
TZID:America/Chicago
BEGIN:DAYLIGHT
TZOFFSETFROM:-0600
TZOFFSETTO:-0500
DTSTART:20070311T020000
RRULE:FREQ=YEARLY;BYMONTH=3;BYDAY=2SU
TZNAME:CDT
END:DAYLIGHT
BEGIN:STANDARD
TZOFFSETFROM:-0500
TZOFFSETTO:-0600
DTSTART:20071104T020000
RRULE:FREQ=YEARLY;BYMONTH=11;BYDAY=1SU
TZNAME:CST
END:STANDARD
END:VTIMEZONE
BEGIN:VEVENT
UID:550b13f6-6796-4c52-869b-05c32a7d832a.233483@calendar.missouristate.edu
CREATED:20231215T162308Z
LAST-MODIFIED:20231215T162308Z
LOCATION:Recreation Center\, Bill R. Foster and Family Studio
SUMMARY:Inclusive Yoga 
DESCRIPTION:Join the Multicultural Resource Center staff in some mindful y
 oga at the Rec Center. Created with accessibility and comfort in mind for
  our students. Let’s start the semester right! Event sponsored by the MRC
  and the Rec Center. All students welcome.
X-ALT-DESC;FMTTYPE=text/html:&lt;html&gt;&lt;head&gt;&lt;title&gt;&lt;/title&gt;&lt;/head&gt;&lt;body&gt;&lt;p&gt;&lt;s
 pan&gt;Join the Multicultural Resource Center staff in some mindful yoga at 
 the Rec Center. Created with accessibility and comfort in mind for our st
 udents. Let’s start the semester right! Event sponsored by the MRC and th
 e Rec Center. All students welcome.&lt;/span&gt;&lt;/p&gt;&lt;/body&gt;&lt;/html&gt;
DTSTART;TZID=America/Chicago:20240123T140000
DTEND;TZID=America/Chicago:20240123T150000
SEQUENCE:0
URL:https://calendar.missouristate.edu/viewevent.aspx?eventid=122688&amp;occur
 renceid=233483
CATEGORIES:Current Students
END:VEVENT
END:VCALENDAR