BEGIN:VCALENDAR
VERSION:2.0
METHOD:PUBLISH
PRODID:-//Missouri State University/Calendar of Events//EN
CALSCALE:GREGORIAN
X-WR-TIMEZONE:America/Chicago
BEGIN:VTIMEZONE
TZID:America/Chicago
BEGIN:DAYLIGHT
TZOFFSETFROM:-0600
TZOFFSETTO:-0500
DTSTART:20070311T020000
RRULE:FREQ=YEARLY;BYMONTH=3;BYDAY=2SU
TZNAME:CDT
END:DAYLIGHT
BEGIN:STANDARD
TZOFFSETFROM:-0500
TZOFFSETTO:-0600
DTSTART:20071104T020000
RRULE:FREQ=YEARLY;BYMONTH=11;BYDAY=1SU
TZNAME:CST
END:STANDARD
END:VTIMEZONE
BEGIN:VEVENT
UID:00000000-0000-0000-0000-000000000000.234133@calendar.missouristate.edu
CREATED:20231218T214542Z
LAST-MODIFIED:20231218T214542Z
LOCATION:To Be Determined
SUMMARY:St. Petersburg Alumni Gathering
DESCRIPTION:Join fellow Missouri State alumni and friends at President Cli
 f and Gail Smart's home in St. Petersburg for an alumni gathering.. \n\n\
 n 
X-ALT-DESC;FMTTYPE=text/html:&lt;html&gt;&lt;head&gt;&lt;title&gt;&lt;/title&gt;&lt;/head&gt;&lt;body&gt;&lt;p&gt;Jo
 in fellow Missouri State alumni and friends at President Clif and Gail Sm
 art's home in St. Petersburg for an alumni gathering..&amp;nbsp\;&lt;/p&gt;\n&lt;p&gt;&amp;nb
 sp\;&lt;/p&gt;&lt;/body&gt;&lt;/html&gt;
DTSTART;TZID=America/Chicago:20240203T160000
DTEND;TZID=America/Chicago:20240203T180000
SEQUENCE:0
URL:https://missouristate.imodules.com?sid=1691&amp;gid=2&amp;pgid=3490&amp;cid=6128&amp;e
 cid=6128&amp;ciid=21751&amp;crid=0
CATEGORIES:Public,Alumni,Parents and Family,Visitors
END:VEVENT
END:VCALENDAR