BEGIN:VCALENDAR
VERSION:2.0
METHOD:PUBLISH
PRODID:-//Missouri State University/Calendar of Events//EN
CALSCALE:GREGORIAN
X-WR-TIMEZONE:America/Chicago
BEGIN:VTIMEZONE
TZID:America/Chicago
BEGIN:DAYLIGHT
TZOFFSETFROM:-0600
TZOFFSETTO:-0500
DTSTART:20070311T020000
RRULE:FREQ=YEARLY;BYMONTH=3;BYDAY=2SU
TZNAME:CDT
END:DAYLIGHT
BEGIN:STANDARD
TZOFFSETFROM:-0500
TZOFFSETTO:-0600
DTSTART:20071104T020000
RRULE:FREQ=YEARLY;BYMONTH=11;BYDAY=1SU
TZNAME:CST
END:STANDARD
END:VTIMEZONE
BEGIN:VEVENT
UID:00000000-0000-0000-0000-000000000000.233493@calendar.missouristate.edu
CREATED:20231219T224551Z
LAST-MODIFIED:20231219T224551Z
LOCATION:To Be Determined
SUMMARY:Kansas City Alumni Chapter Night at the Mavericks
DESCRIPTION:Join fellow Bears and friends for a KC Alumni Chapter event on
  Saturday\, Feb. 3. Cheer on the Kansas City Mavericks  as they face off 
 against the Wichita Thunder at Cable Dahmer Arena.\n\n\n 
X-ALT-DESC;FMTTYPE=text/html:&lt;html&gt;&lt;head&gt;&lt;title&gt;&lt;/title&gt;&lt;/head&gt;&lt;body&gt;&lt;p&gt;Jo
 in fellow Bears and friends for a KC Alumni Chapter event on Saturday\, F
 eb. 3. Cheer on the Kansas City Mavericks&amp;nbsp\; as they face off against
 &amp;nbsp\;the Wichita Thunder at Cable Dahmer Arena.&lt;/p&gt;\n&lt;p&gt;&amp;nbsp\;&lt;/p&gt;&lt;/bo
 dy&gt;&lt;/html&gt;
DTSTART;TZID=America/Chicago:20240203T170000
DTEND;TZID=America/Chicago:20240203T210000
SEQUENCE:0
URL:https://missouristate.imodules.com?sid=1691&amp;gid=2&amp;pgid=3498&amp;cid=6164&amp;e
 cid=6164&amp;ciid=21718&amp;crid=0
CATEGORIES:Public,Alumni,Parents and Family,Visitors
END:VEVENT
END:VCALENDAR