BEGIN:VCALENDAR
VERSION:2.0
METHOD:PUBLISH
PRODID:-//Missouri State University/Calendar of Events//EN
CALSCALE:GREGORIAN
X-WR-TIMEZONE:America/Chicago
BEGIN:VTIMEZONE
TZID:America/Chicago
BEGIN:DAYLIGHT
TZOFFSETFROM:-0600
TZOFFSETTO:-0500
DTSTART:20070311T020000
RRULE:FREQ=YEARLY;BYMONTH=3;BYDAY=2SU
TZNAME:CDT
END:DAYLIGHT
BEGIN:STANDARD
TZOFFSETFROM:-0500
TZOFFSETTO:-0600
DTSTART:20071104T020000
RRULE:FREQ=YEARLY;BYMONTH=11;BYDAY=1SU
TZNAME:CST
END:STANDARD
END:VTIMEZONE
BEGIN:VEVENT
UID:00000000-0000-0000-0000-000000000000.233507@calendar.missouristate.edu
CREATED:20231220T184558Z
LAST-MODIFIED:20231220T184558Z
LOCATION:To Be Determined
SUMMARY:Join Bears WIN for a VIP Experience with Danica Patrick
DESCRIPTION:The iconic Danica Patrick\, a record-setting racecar driver an
 d one of Time’s 100 Most Influential People\, is coming to Missouri State
  University on February 28. Register to attend the VIP Experience before 
 her keynote presentation.\n\n\n \n\n\n 
X-ALT-DESC;FMTTYPE=text/html:&lt;html&gt;&lt;head&gt;&lt;title&gt;&lt;/title&gt;&lt;/head&gt;&lt;body&gt;&lt;p&gt;Th
 e iconic Danica Patrick\, a record-setting racecar driver and one of Time
 &amp;rsquo\;s 100 Most Influential People\, is coming to Missouri State Unive
 rsity on February 28. Register to attend the VIP Experience before her ke
 ynote presentation.&lt;/p&gt;\n&lt;p&gt;&amp;nbsp\;&lt;/p&gt;\n&lt;p&gt;&amp;nbsp\;&lt;/p&gt;&lt;/body&gt;&lt;/html&gt;
DTSTART;TZID=America/Chicago:20240228T170000
DTEND;TZID=America/Chicago:20240228T183000
SEQUENCE:0
URL:https://missouristate.imodules.com?sid=1691&amp;gid=2&amp;pgid=3395&amp;cid=5894&amp;e
 cid=5894&amp;ciid=21183&amp;crid=0
CATEGORIES:Public,Alumni,Parents and Family,Visitors
END:VEVENT
END:VCALENDAR