BEGIN:VCALENDAR
VERSION:2.0
METHOD:PUBLISH
PRODID:-//Missouri State University/Calendar of Events//EN
CALSCALE:GREGORIAN
X-WR-TIMEZONE:America/Chicago
BEGIN:VTIMEZONE
TZID:America/Chicago
BEGIN:DAYLIGHT
TZOFFSETFROM:-0600
TZOFFSETTO:-0500
DTSTART:20070311T020000
RRULE:FREQ=YEARLY;BYMONTH=3;BYDAY=2SU
TZNAME:CDT
END:DAYLIGHT
BEGIN:STANDARD
TZOFFSETFROM:-0500
TZOFFSETTO:-0600
DTSTART:20071104T020000
RRULE:FREQ=YEARLY;BYMONTH=11;BYDAY=1SU
TZNAME:CST
END:STANDARD
END:VTIMEZONE
BEGIN:VEVENT
UID:4b92d9c1-0269-4d9a-ab3a-59580e0ffdec.234127@calendar.missouristate.edu
CREATED:20240130T190816Z
LAST-MODIFIED:20240130T190816Z
LOCATION:To Be Determined
SUMMARY:MSU Legislative Reception
DESCRIPTION:Find out how you can be personally involved in advocating for 
 Missouri State University. Join Missouri State University leaders in Jeff
 erson City on February 7 for the Legislative Reception.\n\n\n 
X-ALT-DESC;FMTTYPE=text/html:&lt;html&gt;&lt;head&gt;&lt;title&gt;&lt;/title&gt;&lt;/head&gt;&lt;body&gt;&lt;p&gt;Fi
 nd out how you can be personally involved in advocating for Missouri Stat
 e University. Join Missouri State University leaders in Jefferson City on
  February 7 for the Legislative Reception.&lt;/p&gt;\n&lt;p&gt;&amp;nbsp\;&lt;/p&gt;&lt;/body&gt;&lt;/ht
 ml&gt;
DTSTART;TZID=America/Chicago:20240207T180000
DTEND;TZID=America/Chicago:20240207T193000
SEQUENCE:0
URL:https://missouristate.imodules.com?sid=1691&amp;gid=2&amp;pgid=3511&amp;cid=6181&amp;e
 cid=6181&amp;ciid=21870&amp;crid=0
CATEGORIES:Public,Alumni,Parents and Family,Visitors
END:VEVENT
END:VCALENDAR