BEGIN:VCALENDAR
VERSION:2.0
METHOD:PUBLISH
PRODID:-//Missouri State University/Calendar of Events//EN
CALSCALE:GREGORIAN
X-WR-TIMEZONE:America/Chicago
BEGIN:VTIMEZONE
TZID:America/Chicago
BEGIN:DAYLIGHT
TZOFFSETFROM:-0600
TZOFFSETTO:-0500
DTSTART:20070311T020000
RRULE:FREQ=YEARLY;BYMONTH=3;BYDAY=2SU
TZNAME:CDT
END:DAYLIGHT
BEGIN:STANDARD
TZOFFSETFROM:-0500
TZOFFSETTO:-0600
DTSTART:20071104T020000
RRULE:FREQ=YEARLY;BYMONTH=11;BYDAY=1SU
TZNAME:CST
END:STANDARD
END:VTIMEZONE
BEGIN:VEVENT
UID:e45a68fb-6ad7-4d6a-bd81-7b8055404ba2.234859@calendar.missouristate.edu
CREATED:20240125T221841Z
LAST-MODIFIED:20240125T221841Z
LOCATION:To Be Determined
SUMMARY:Grizzly 5K
DESCRIPTION:THE GRIZZLY HOMECOMING 5K HAS BEEN CANCELED DUE TO WEATHER.\n\
 n\nJoin us for the inaugural Grizzly Homecoming 5K and celebrate the 30th
  anniversary of Grizzly Athletics at Missouri State-West Plains Homecomin
 g!\n\n\n 
X-ALT-DESC;FMTTYPE=text/html:&lt;html&gt;&lt;head&gt;&lt;title&gt;&lt;/title&gt;&lt;/head&gt;&lt;body&gt;&lt;p&gt;TH
 E GRIZZLY HOMECOMING 5K HAS BEEN CANCELED DUE TO WEATHER.&lt;/p&gt;\n&lt;p&gt;Join us
  for the inaugural Grizzly Homecoming 5K and celebrate the 30th anniversa
 ry of Grizzly Athletics at Missouri State-West Plains Homecoming!&lt;/p&gt;\n&lt;p
 &gt;&amp;nbsp\;&lt;/p&gt;&lt;/body&gt;&lt;/html&gt;
DTSTART;TZID=America/Chicago:20240928T080000
DTEND;TZID=America/Chicago:20240928T090000
SEQUENCE:0
URL:https://missouristate.imodules.com?sid=1691&amp;gid=2&amp;pgid=3517&amp;cid=6189&amp;e
 cid=6189&amp;ciid=23273&amp;crid=0
CATEGORIES:Public,Alumni,Parents and Family,Visitors
END:VEVENT
END:VCALENDAR