BEGIN:VCALENDAR
VERSION:2.0
METHOD:PUBLISH
PRODID:-//Missouri State University/Calendar of Events//EN
CALSCALE:GREGORIAN
X-WR-TIMEZONE:America/Chicago
BEGIN:VTIMEZONE
TZID:America/Chicago
BEGIN:DAYLIGHT
TZOFFSETFROM:-0600
TZOFFSETTO:-0500
DTSTART:20070311T020000
RRULE:FREQ=YEARLY;BYMONTH=3;BYDAY=2SU
TZNAME:CDT
END:DAYLIGHT
BEGIN:STANDARD
TZOFFSETFROM:-0500
TZOFFSETTO:-0600
DTSTART:20071104T020000
RRULE:FREQ=YEARLY;BYMONTH=11;BYDAY=1SU
TZNAME:CST
END:STANDARD
END:VTIMEZONE
BEGIN:VEVENT
UID:86636f61-5423-4300-93f9-3f31077e77d1.233521@calendar.missouristate.edu
CREATED:20240104T210049Z
LAST-MODIFIED:20240104T210049Z
LOCATION:
SUMMARY:Giving Day!
DESCRIPTION:BE PART OF THE FUTURE\n\n\nAs we reflect on the achievements a
 nd milestones of the past\, we invite Bears and Grizzlies from all genera
 tions to help shape the university’s future. \n\n\n\nJoin fellow Bears an
 d support the areas that mean the most to you.\nBecome a Giving Day ambas
 sador.\nMake a match or challenge gift to increase your impact.\n\nGiving
  Day is an opportunity to remember the faculty and staff who guided you\,
  the friends you made and the experiences that defined your journey.\n\n\
 nMake your gift on Giving Day to ensure your Missouri State legacy enrich
 es the university’s future.
X-ALT-DESC;FMTTYPE=text/html:&lt;html&gt;&lt;head&gt;&lt;title&gt;&lt;/title&gt;&lt;/head&gt;&lt;body&gt;&lt;p&gt;&lt;s
 trong&gt;BE PART OF THE FUTURE&lt;/strong&gt;&lt;/p&gt;\n&lt;p&gt;As we reflect on the achieve
 ments and milestones of the past\, we invite Bears and Grizzlies from all
  generations to help shape the university’s future.&amp;nbsp\;&lt;/p&gt;\n&lt;ul&gt;\n&lt;li
 &gt;Join fellow Bears and support the areas that mean the most to you.&lt;/li&gt;\
 n&lt;li&gt;Become a Giving Day ambassador.&lt;/li&gt;\n&lt;li&gt;Make a match or challenge 
 gift to increase your impact.&lt;/li&gt;\n&lt;/ul&gt;\n&lt;p&gt;Giving Day is an opportunit
 y to remember the faculty and staff who guided you\, the friends you made
  and the experiences that defined your journey.&lt;/p&gt;\n&lt;p&gt;Make your gift on
  Giving Day to ensure your Missouri State legacy enriches the university’
 s future.&lt;/p&gt;&lt;/body&gt;&lt;/html&gt;
DTSTART;VALUE=DATE:20240305
DTEND;VALUE=DATE:20240306
SEQUENCE:0
URL:https://givingday.missouristate.edu/
CATEGORIES:Public,Alumni,Current Students,Faculty,Future Students,Staff
END:VEVENT
END:VCALENDAR