BEGIN:VCALENDAR
VERSION:2.0
METHOD:PUBLISH
PRODID:-//Missouri State University/Calendar of Events//EN
CALSCALE:GREGORIAN
X-WR-TIMEZONE:America/Chicago
BEGIN:VTIMEZONE
TZID:America/Chicago
BEGIN:DAYLIGHT
TZOFFSETFROM:-0600
TZOFFSETTO:-0500
DTSTART:20070311T020000
RRULE:FREQ=YEARLY;BYMONTH=3;BYDAY=2SU
TZNAME:CDT
END:DAYLIGHT
BEGIN:STANDARD
TZOFFSETFROM:-0500
TZOFFSETTO:-0600
DTSTART:20071104T020000
RRULE:FREQ=YEARLY;BYMONTH=11;BYDAY=1SU
TZNAME:CST
END:STANDARD
END:VTIMEZONE
BEGIN:VEVENT
UID:f588ec45-2386-4661-9c2f-f613b4b4be4b.233554@calendar.missouristate.edu
CREATED:20240109T202635Z
LAST-MODIFIED:20240109T202635Z
LOCATION:Plaster Student Union\, Robert W. Grand Ballroom
SUMMARY:Job &amp; Internship Career Fair 2024
DESCRIPTION:The Career Center will host an all majors Job &amp; Internship Car
 eer Fair for all MSU students and alumni seeking internships and/or full-
 time post-graduate jobs.  \n\n\nAttending Employers:There will be a varie
 ty of employers attending this career fair. Log into your Handshake accou
 nt to see the employers attending the fair.\n\n\nLocation:Plaster Student
  Union Grand Ballroom (3rd floor)Date/Time:Feb. 28\, 202410 a.m.-2 p.m.\n
 \n\nCareer Fair Preparation:Visit the Career Center website for Career Fa
 ir Prep Training Presentation with tips and tricks to feel prepared and c
 onfident.\n\n\nResume Review:Career Center drop-in hours are Monday-Frida
 y\, noon-5 p.m.
X-ALT-DESC;FMTTYPE=text/html:&lt;html&gt;&lt;head&gt;&lt;title&gt;&lt;/title&gt;&lt;/head&gt;&lt;body&gt;&lt;p&gt;&lt;s
 pan&gt;The Career Center will host an all majors &lt;strong&gt;Job &amp;amp\; Internsh
 ip Career Fair&lt;/strong&gt;&amp;nbsp\;for all MSU students and alumni seeking int
 ernships and/or full-time post-graduate jobs.&amp;nbsp\; &lt;/span&gt;&lt;/p&gt;\n&lt;p&gt;&lt;str
 ong&gt;Attending Employers&lt;/strong&gt;:&lt;br&gt;&lt;span&gt;There will be a variety of emp
 loyers attending this career fair. &lt;/span&gt;Log into your &lt;a href="https://
 missouristate.joinhandshake.com/career_fairs/44774/student_preview?token=
 _crzEfocLRFLf5STIZcUzBaoiwf4rGLZRULxS_3vdTLTwEwqxOqF5A"&gt;Handshake &lt;/a&gt;acc
 ount to see the employers attending the fair.&lt;/p&gt;\n&lt;p&gt;&lt;strong&gt;Location:&lt;/
 strong&gt;&lt;i&gt;&lt;br&gt;&lt;/i&gt;Plaster Student Union Grand Ballroom (3rd floor)&lt;b&gt;&lt;br&gt;
 &lt;/b&gt;&lt;i&gt;&lt;br&gt;&lt;/i&gt;&lt;strong&gt;Date/Time:&lt;/strong&gt;&lt;i&gt;&lt;br&gt;&lt;/i&gt;Feb. 28\, 2024&lt;br&gt;&lt;s
 pan&gt;10 a.m.-2 p.m.&lt;br&gt;&lt;/span&gt;&lt;/p&gt;\n&lt;p&gt;&lt;strong&gt;Career Fair Preparation:&lt;br
 &gt;&lt;/strong&gt;Visit the Career Center website for&amp;nbsp\;&lt;a href="https://care
 ercenter.missouristate.edu/untitled.htm"&gt;Career Fair Prep Training Presen
 tation&lt;/a&gt;&amp;nbsp\;with tips and tricks to feel prepared and confident.&lt;/p&gt;
 \n&lt;p&gt;&lt;strong&gt;Resume Review:&lt;br&gt;&lt;/strong&gt;Career Center drop-in hours are M
 onday-Friday\, noon-5 p.m.&lt;/p&gt;&lt;/body&gt;&lt;/html&gt;
DTSTART;TZID=America/Chicago:20240228T100000
DTEND;TZID=America/Chicago:20240228T140000
SEQUENCE:0
URL:https://careercenter.missouristate.edu/Career-fairs.htm
CATEGORIES:Alumni,Current Students,Faculty,Staff
END:VEVENT
END:VCALENDAR