BEGIN:VCALENDAR
VERSION:2.0
METHOD:PUBLISH
PRODID:-//Missouri State University/Calendar of Events//EN
CALSCALE:GREGORIAN
X-WR-TIMEZONE:America/Chicago
BEGIN:VTIMEZONE
TZID:America/Chicago
BEGIN:DAYLIGHT
TZOFFSETFROM:-0600
TZOFFSETTO:-0500
DTSTART:20070311T020000
RRULE:FREQ=YEARLY;BYMONTH=3;BYDAY=2SU
TZNAME:CDT
END:DAYLIGHT
BEGIN:STANDARD
TZOFFSETFROM:-0500
TZOFFSETTO:-0600
DTSTART:20071104T020000
RRULE:FREQ=YEARLY;BYMONTH=11;BYDAY=1SU
TZNAME:CST
END:STANDARD
END:VTIMEZONE
BEGIN:VEVENT
UID:09d84b08-bfbc-4b92-8e42-4cb91c5487c5.233556@calendar.missouristate.edu
CREATED:20240112T000155Z
LAST-MODIFIED:20240112T000155Z
LOCATION:Karls Hall 101
SUMMARY:The Global Synthetic Drugs Revolution: Its Geopolitical Implicatio
 ns and Impact  across Latin America
DESCRIPTION:Vanda Felbab-Brown\, a senior fellow at the Brookings Institut
 ion in Washington\, DC\, and an authority on ilicit economies and nonstat
 e armed actors\, will discuss the international trade in fentanyl and oth
 er synthetic drugs. There will be time for questions from the audience.
X-ALT-DESC;FMTTYPE=text/html:&lt;html&gt;&lt;head&gt;&lt;title&gt;&lt;/title&gt;&lt;/head&gt;&lt;body&gt;&lt;p&gt;Va
 nda Felbab-Brown\, a senior fellow at the Brookings Institution in Washin
 gton\, DC\, and an authority on ilicit economies and nonstate armed actor
 s\, will discuss the international trade in fentanyl and other synthetic 
 drugs. There will be time for questions from the audience.&lt;/p&gt;&lt;/body&gt;&lt;/ht
 ml&gt;
DTSTART;TZID=America/Chicago:20240205T170000
DTEND;TZID=America/Chicago:20240205T183000
SEQUENCE:1
URL:
CATEGORIES:Public,Alumni,Current Students,Faculty,Future Students,Staff
END:VEVENT
END:VCALENDAR