BEGIN:VCALENDAR
VERSION:2.0
METHOD:PUBLISH
PRODID:-//Missouri State University/Calendar of Events//EN
CALSCALE:GREGORIAN
X-WR-TIMEZONE:America/Chicago
BEGIN:VTIMEZONE
TZID:America/Chicago
BEGIN:DAYLIGHT
TZOFFSETFROM:-0600
TZOFFSETTO:-0500
DTSTART:20070311T020000
RRULE:FREQ=YEARLY;BYMONTH=3;BYDAY=2SU
TZNAME:CDT
END:DAYLIGHT
BEGIN:STANDARD
TZOFFSETFROM:-0500
TZOFFSETTO:-0600
DTSTART:20071104T020000
RRULE:FREQ=YEARLY;BYMONTH=11;BYDAY=1SU
TZNAME:CST
END:STANDARD
END:VTIMEZONE
BEGIN:VEVENT
UID:3c9cf4b6-8f5e-47bd-bd12-73e64619cbed.233594@calendar.missouristate.edu
CREATED:20240110T154814Z
LAST-MODIFIED:20240110T154814Z
LOCATION:Hammons Hall for the Performing Arts\, Juanita K. Performance Hall
SUMMARY:Wind Ensemble Pre-MMEA Concert
DESCRIPTION:The MSU Music Department invites you to join us for a performa
 nce featuring the university Wind Ensemble\, presenting their program to 
 be performed at the Missouri Music Educators Association annual conferenc
 e at the end of January. For more information\, please communicate with t
 he event contact.
X-ALT-DESC;FMTTYPE=text/html:&lt;html&gt;&lt;head&gt;&lt;title&gt;&lt;/title&gt;&lt;/head&gt;&lt;body&gt;&lt;p&gt;&lt;s
 pan dir="ltr"&gt;The MSU Music Department invites you to join us for a perfo
 rmance featuring the university Wind Ensemble\, presenting their program 
 to be performed at the Missouri Music Educators Association annual confer
 ence at the end of January. For more information\, please communicate wit
 h the event contact.&lt;/span&gt;&lt;/p&gt;&lt;/body&gt;&lt;/html&gt;
DTSTART;TZID=America/Chicago:20240122T193000
DTEND;TZID=America/Chicago:20240122T203000
SEQUENCE:0
URL:
CATEGORIES:Public,Alumni,Current Students,Faculty,Future Students,Staff
END:VEVENT
END:VCALENDAR