BEGIN:VCALENDAR
VERSION:2.0
METHOD:PUBLISH
PRODID:-//Missouri State University/Calendar of Events//EN
CALSCALE:GREGORIAN
X-WR-TIMEZONE:America/Chicago
BEGIN:VTIMEZONE
TZID:America/Chicago
BEGIN:DAYLIGHT
TZOFFSETFROM:-0600
TZOFFSETTO:-0500
DTSTART:20070311T020000
RRULE:FREQ=YEARLY;BYMONTH=3;BYDAY=2SU
TZNAME:CDT
END:DAYLIGHT
BEGIN:STANDARD
TZOFFSETFROM:-0500
TZOFFSETTO:-0600
DTSTART:20071104T020000
RRULE:FREQ=YEARLY;BYMONTH=11;BYDAY=1SU
TZNAME:CST
END:STANDARD
END:VTIMEZONE
BEGIN:VEVENT
UID:92273a31-f73c-4c21-8b1c-bd9b982885f1.233597@calendar.missouristate.edu
CREATED:20240130T170906Z
LAST-MODIFIED:20240130T170906Z
LOCATION:Ellis Hall C. Minor Recital Hall - Ellis 220
SUMMARY:Voice Guest Artist Recital
DESCRIPTION:The MSU Music Department invites you to join us for a performa
 nce featuring guest artist and per-course faculty Brandon Nase. For more 
 information\, please communicate with the event contact.
X-ALT-DESC;FMTTYPE=text/html:&lt;html&gt;&lt;head&gt;&lt;title&gt;&lt;/title&gt;&lt;/head&gt;&lt;body&gt;&lt;p&gt;&lt;s
 pan dir="ltr"&gt;The MSU Music Department invites you to join us for a perfo
 rmance featuring guest artist and per-course faculty Brandon Nase. For mo
 re information\, please communicate with the event contact.&lt;/span&gt;&lt;/p&gt;&lt;/b
 ody&gt;&lt;/html&gt;
DTSTART;TZID=America/Chicago:20240211T150000
DTEND;TZID=America/Chicago:20240211T163000
SEQUENCE:1
URL:
CATEGORIES:Public,Alumni,Current Students,Faculty,Future Students,Staff
END:VEVENT
END:VCALENDAR