BEGIN:VCALENDAR
VERSION:2.0
METHOD:PUBLISH
PRODID:-//Missouri State University/Calendar of Events//EN
CALSCALE:GREGORIAN
X-WR-TIMEZONE:America/Chicago
BEGIN:VTIMEZONE
TZID:America/Chicago
BEGIN:DAYLIGHT
TZOFFSETFROM:-0600
TZOFFSETTO:-0500
DTSTART:20070311T020000
RRULE:FREQ=YEARLY;BYMONTH=3;BYDAY=2SU
TZNAME:CDT
END:DAYLIGHT
BEGIN:STANDARD
TZOFFSETFROM:-0500
TZOFFSETTO:-0600
DTSTART:20071104T020000
RRULE:FREQ=YEARLY;BYMONTH=11;BYDAY=1SU
TZNAME:CST
END:STANDARD
END:VTIMEZONE
BEGIN:VEVENT
UID:c6ec66b4-58c6-4a95-a753-0d9c8b1cfd22.233612@calendar.missouristate.edu
CREATED:20240110T165319Z
LAST-MODIFIED:20240110T165319Z
LOCATION:Ellis Hall C. Minor Recital Hall - Ellis 220
SUMMARY:Faculty and Guest Artist Recital
DESCRIPTION:The MSU Music Department invites you to join us for a performa
 nce featuring guest artist John Fedshock and university jazz faculty. For
  more information\, please communicate with the event contact.
X-ALT-DESC;FMTTYPE=text/html:&lt;html&gt;&lt;head&gt;&lt;title&gt;&lt;/title&gt;&lt;/head&gt;&lt;body&gt;&lt;p&gt;&lt;s
 pan dir="ltr"&gt;The MSU Music Department invites you to join us for a perfo
 rmance featuring guest artist John Fedshock and university jazz faculty. 
 For more information\, please communicate with the event contact.&lt;/span&gt;&lt;
 /p&gt;&lt;/body&gt;&lt;/html&gt;
DTSTART;TZID=America/Chicago:20230415T193000
DTEND;TZID=America/Chicago:20230415T203000
SEQUENCE:0
URL:
CATEGORIES:Public,Alumni,Current Students,Faculty,Future Students,Staff
END:VEVENT
END:VCALENDAR