BEGIN:VCALENDAR
VERSION:2.0
METHOD:PUBLISH
PRODID:-//Missouri State University/Calendar of Events//EN
CALSCALE:GREGORIAN
X-WR-TIMEZONE:America/Chicago
BEGIN:VTIMEZONE
TZID:America/Chicago
BEGIN:DAYLIGHT
TZOFFSETFROM:-0600
TZOFFSETTO:-0500
DTSTART:20070311T020000
RRULE:FREQ=YEARLY;BYMONTH=3;BYDAY=2SU
TZNAME:CDT
END:DAYLIGHT
BEGIN:STANDARD
TZOFFSETFROM:-0500
TZOFFSETTO:-0600
DTSTART:20071104T020000
RRULE:FREQ=YEARLY;BYMONTH=11;BYDAY=1SU
TZNAME:CST
END:STANDARD
END:VTIMEZONE
BEGIN:VEVENT
UID:042d4952-7613-4c1c-889a-ed33ee5b6a88.233616@calendar.missouristate.edu
CREATED:20240110T214052Z
LAST-MODIFIED:20240110T214052Z
LOCATION:Glass Hall\, David D. Atrium
SUMMARY:Construction and Engineering Career Fair
DESCRIPTION:Join us for the Construction and Engineering Career Fair \n\n\
 n\nWednesday\, February 21\, 2024\n10:00 a.m. - 2:00 p.m.\nMissouri State
  University - Glass Hall Atrium\nVisit Handshake to see who's attending t
 he career fair.
X-ALT-DESC;FMTTYPE=text/html:&lt;html&gt;&lt;head&gt;&lt;title&gt;&lt;/title&gt;&lt;/head&gt;&lt;body&gt;&lt;p&gt;&lt;b
 &gt;&lt;span&gt;Join us for the&amp;nbsp\;Construction and Engineering Career Fair&amp;nbs
 p\;&lt;/span&gt;&lt;/b&gt;&lt;span&gt;&lt;/span&gt;&lt;/p&gt;\n&lt;ul type="disc"&gt;\n&lt;li&gt;&lt;b&gt;&lt;span&gt;Wednesday
 \, February 21\, 2024&lt;/span&gt;&lt;/b&gt;&lt;span&gt;&lt;/span&gt;&lt;/li&gt;\n&lt;li&gt;&lt;b&gt;&lt;span&gt;10:00 a.
 m. - 2:00 p.m.&lt;/span&gt;&lt;/b&gt;&lt;span&gt;&lt;/span&gt;&lt;/li&gt;\n&lt;li&gt;&lt;b&gt;&lt;span&gt;Missouri State 
 University - Glass Hall Atrium&lt;/span&gt;&lt;/b&gt;&lt;span&gt;&lt;/span&gt;&lt;/li&gt;\n&lt;li&gt;&lt;span&gt;Vi
 sit&amp;nbsp\;&lt;a href="https://missouristate.joinhandshake.com/career_fairs/4
 5221/student_preview?token=N8ARzmPWQCEHMuA31FSgqlmQoio8nGJfvZnDnxLPwiRh3j
 VUSzJv0A"&gt;Handshake&lt;/a&gt; to see who's attending the career fair.&lt;/span&gt;&lt;/l
 i&gt;\n&lt;/ul&gt;&lt;/body&gt;&lt;/html&gt;
DTSTART;TZID=America/Chicago:20240221T100000
DTEND;TZID=America/Chicago:20240221T140000
SEQUENCE:0
URL:
CATEGORIES:Current Students
END:VEVENT
END:VCALENDAR