BEGIN:VCALENDAR
VERSION:2.0
METHOD:PUBLISH
PRODID:-//Missouri State University/Calendar of Events//EN
CALSCALE:GREGORIAN
X-WR-TIMEZONE:America/Chicago
BEGIN:VTIMEZONE
TZID:America/Chicago
BEGIN:DAYLIGHT
TZOFFSETFROM:-0600
TZOFFSETTO:-0500
DTSTART:20070311T020000
RRULE:FREQ=YEARLY;BYMONTH=3;BYDAY=2SU
TZNAME:CDT
END:DAYLIGHT
BEGIN:STANDARD
TZOFFSETFROM:-0500
TZOFFSETTO:-0600
DTSTART:20071104T020000
RRULE:FREQ=YEARLY;BYMONTH=11;BYDAY=1SU
TZNAME:CST
END:STANDARD
END:VTIMEZONE
BEGIN:VEVENT
UID:f444140d-1b67-4644-9ac3-ca3381545008.233625@calendar.missouristate.edu
CREATED:20240111T165433Z
LAST-MODIFIED:20240111T165433Z
LOCATION:Plaster Student Union\, Robert W. 127 Lounge
SUMMARY:SOFAC Budget Proposal Workshop
DESCRIPTION:The budget proposal workshops are mandatory sessions to be att
 ended by the president and/or treasurer of the organization.\n\n\nThis se
 ssion will review the SOFAC process and how to properly complete and subm
 it the SOFAC General Budget Proposal. If you do not attend the meeting\, 
 you are not eligible to apply for funding.\n\n\nAll registered student or
 ganizations' presidents and treasurers will receive an email with informa
 tion about the budget proposal workshops. Students can sign up to attend 
 through BearLink with the SOFAC Budget Proposal Workshop Signup Form.
X-ALT-DESC;FMTTYPE=text/html:&lt;html&gt;&lt;head&gt;&lt;title&gt;&lt;/title&gt;&lt;/head&gt;&lt;body&gt;&lt;p&gt;Th
 e budget proposal workshops are &lt;strong&gt;mandatory&lt;/strong&gt; sessions to be
  attended by the president and/or treasurer of the organization.&lt;/p&gt;\n&lt;p&gt;
 This session will review the SOFAC process and how to properly complete a
 nd submit the SOFAC General Budget Proposal. If you do not attend the mee
 ting\, you are &lt;strong&gt;not&lt;/strong&gt; eligible to apply for funding.&lt;/p&gt;\n&lt;
 p&gt;All registered student organizations' presidents and treasurers will re
 ceive an email with information about the budget proposal workshops. Stud
 ents can sign up to attend through BearLink with the SOFAC Budget Proposa
 l Workshop Signup Form.&lt;/p&gt;&lt;/body&gt;&lt;/html&gt;
DTSTART;TZID=America/Chicago:20240122T133000
DTEND;TZID=America/Chicago:20240122T143000
SEQUENCE:0
URL:
CATEGORIES:Current Students
END:VEVENT
END:VCALENDAR