BEGIN:VCALENDAR
VERSION:2.0
METHOD:PUBLISH
PRODID:-//Missouri State University/Calendar of Events//EN
CALSCALE:GREGORIAN
X-WR-TIMEZONE:America/Chicago
BEGIN:VTIMEZONE
TZID:America/Chicago
BEGIN:DAYLIGHT
TZOFFSETFROM:-0600
TZOFFSETTO:-0500
DTSTART:20070311T020000
RRULE:FREQ=YEARLY;BYMONTH=3;BYDAY=2SU
TZNAME:CDT
END:DAYLIGHT
BEGIN:STANDARD
TZOFFSETFROM:-0500
TZOFFSETTO:-0600
DTSTART:20071104T020000
RRULE:FREQ=YEARLY;BYMONTH=11;BYDAY=1SU
TZNAME:CST
END:STANDARD
END:VTIMEZONE
BEGIN:VEVENT
UID:f18b475e-ca58-4717-8da9-1cceb5d527dc.233641@calendar.missouristate.edu
CREATED:20240223T001718Z
LAST-MODIFIED:20240223T001718Z
LOCATION:Plaster Free Enterprise Center\, Robert W.
SUMMARY:QuickBooks® Online (The Basics)
DESCRIPTION:Are you thinking about using QuickBooks® Online or are you alr
 eady using it and want to be able to navigate more quickly? Our QuickBook
 s® Online hands-on training shows you how to utilize the software to docu
 ment and track the accounting activity of your business\, no need to feel
  like you have to be an accountant.Topics include:\n\n\n\nUnderstanding Q
 uickBooks® Online features\nSetting up your company\nManaging your compan
 y account and settings\nNavigating QuickBooks® Online\nRecording sales\, 
 expenses and purchases\nUnderstanding the report dashboard and how to gen
 erate reports\nActivating QuickBooks® payments\nBenefiting from Intuit ap
 proved app add-ons
X-ALT-DESC;FMTTYPE=text/html:&lt;html&gt;&lt;head&gt;&lt;title&gt;&lt;/title&gt;&lt;/head&gt;&lt;body&gt;&lt;p&gt;&lt;s
 pan&gt;Are you thinking about using QuickBooks® Online or are you already us
 ing it and want to be able to navigate more quickly? Our QuickBooks® Onli
 ne hands-on training shows you how to utilize the software to document an
 d track the accounting activity of your business\, no need to feel like y
 ou have to be an accountant.&lt;/span&gt;&lt;br&gt;&lt;br&gt;&lt;span&gt;Topics include:&lt;/span&gt;&lt;/
 p&gt;\n&lt;ul&gt;\n&lt;li&gt;&lt;span&gt;Understanding QuickBooks® Online features&lt;/span&gt;&lt;/li&gt;
 \n&lt;li&gt;&lt;span&gt;Setting up your company&lt;/span&gt;&lt;/li&gt;\n&lt;li&gt;&lt;span&gt;Managing your 
 company account and settings&lt;/span&gt;&lt;/li&gt;\n&lt;li&gt;&lt;span&gt;Navigating QuickBooks
 ® Online&lt;/span&gt;&lt;/li&gt;\n&lt;li&gt;&lt;span&gt;Recording sales\, expenses and purchases&lt;
 /span&gt;&lt;/li&gt;\n&lt;li&gt;&lt;span&gt;Understanding the report dashboard and how to gene
 rate reports&lt;/span&gt;&lt;/li&gt;\n&lt;li&gt;&lt;span&gt;Activating QuickBooks® payments&lt;/span
 &gt;&lt;/li&gt;\n&lt;li&gt;&lt;span&gt;Benefiting from Intuit approved app add-ons&lt;/span&gt;&lt;/li&gt;
 \n&lt;/ul&gt;&lt;/body&gt;&lt;/html&gt;
DTSTART;TZID=America/Chicago:20240214T090000
DTEND;TZID=America/Chicago:20240214T120000
SEQUENCE:0
URL:https://missouri.ecenterdirect.com/events/24989
CATEGORIES:Public
END:VEVENT
END:VCALENDAR