BEGIN:VCALENDAR
VERSION:2.0
METHOD:PUBLISH
PRODID:-//Missouri State University/Calendar of Events//EN
CALSCALE:GREGORIAN
X-WR-TIMEZONE:America/Chicago
BEGIN:VTIMEZONE
TZID:America/Chicago
BEGIN:DAYLIGHT
TZOFFSETFROM:-0600
TZOFFSETTO:-0500
DTSTART:20070311T020000
RRULE:FREQ=YEARLY;BYMONTH=3;BYDAY=2SU
TZNAME:CDT
END:DAYLIGHT
BEGIN:STANDARD
TZOFFSETFROM:-0500
TZOFFSETTO:-0600
DTSTART:20071104T020000
RRULE:FREQ=YEARLY;BYMONTH=11;BYDAY=1SU
TZNAME:CST
END:STANDARD
END:VTIMEZONE
BEGIN:VEVENT
UID:8cf91697-0a2e-48b4-8ce4-5b3387b48f6c.233642@calendar.missouristate.edu
CREATED:20240222T152234Z
LAST-MODIFIED:20240222T152234Z
LOCATION:Plaster Free Enterprise Center\, Robert W.
SUMMARY:QuickBooks® Online (Advanced)
DESCRIPTION:Already using QuickBooks® Online (QBO) and interested in utili
 zing the features more efficiently? In this hands-on training\, you will 
 learn how to make QBO work for your business through form customization\,
  recurring transactions\, account reconciliation\, inventory management\,
  payroll processing and utilizing financial reports.\n\n\n Topics include
 :\n\n\n\nUnderstanding matching \nCustomizing forms \nWorking with asset 
 and liability accounts\nSetting up recurring transactions\nReconciling ac
 counts\nManaging inventory \nManaging and processing payroll\nAnalyzing f
 inancial data through customized reports
X-ALT-DESC;FMTTYPE=text/html:&lt;html&gt;&lt;head&gt;&lt;title&gt;&lt;/title&gt;&lt;/head&gt;&lt;body&gt;&lt;p&gt;&lt;s
 pan&gt;Already using QuickBooks® Online (QBO) and interested in utilizing th
 e features more efficiently? In this hands-on training\, you will learn h
 ow to make QBO work for your business through form customization\, recurr
 ing transactions\, account reconciliation\, inventory management\, payrol
 l processing and utilizing financial reports.&lt;/span&gt;&lt;/p&gt;\n&lt;p&gt;&lt;span&gt; Topic
 s include:&lt;/span&gt;&lt;/p&gt;\n&lt;ul&gt;\n&lt;li&gt;&lt;span&gt;Understanding matching &lt;/span&gt;&lt;/li
 &gt;\n&lt;li&gt;&lt;span&gt;Customizing forms &lt;/span&gt;&lt;/li&gt;\n&lt;li&gt;&lt;span&gt;Working with asset
  and liability accounts&lt;/span&gt;&lt;/li&gt;\n&lt;li&gt;&lt;span&gt;Setting up recurring trans
 actions&lt;/span&gt;&lt;/li&gt;\n&lt;li&gt;&lt;span&gt;Reconciling accounts&lt;/span&gt;&lt;/li&gt;\n&lt;li&gt;&lt;spa
 n&gt;Managing inventory &lt;/span&gt;&lt;/li&gt;\n&lt;li&gt;&lt;span&gt;Managing and processing payr
 oll&lt;/span&gt;&lt;/li&gt;\n&lt;li&gt;&lt;span&gt;Analyzing financial data through customized re
 ports&lt;/span&gt;&lt;/li&gt;\n&lt;/ul&gt;&lt;/body&gt;&lt;/html&gt;
DTSTART;TZID=America/Chicago:20240306T090000
DTEND;TZID=America/Chicago:20240306T120000
SEQUENCE:0
URL:https://missouri.ecenterdirect.com/events/24990
CATEGORIES:Public
END:VEVENT
END:VCALENDAR