BEGIN:VCALENDAR
VERSION:2.0
METHOD:PUBLISH
PRODID:-//Missouri State University/Calendar of Events//EN
CALSCALE:GREGORIAN
X-WR-TIMEZONE:America/Chicago
BEGIN:VTIMEZONE
TZID:America/Chicago
BEGIN:DAYLIGHT
TZOFFSETFROM:-0600
TZOFFSETTO:-0500
DTSTART:20070311T020000
RRULE:FREQ=YEARLY;BYMONTH=3;BYDAY=2SU
TZNAME:CDT
END:DAYLIGHT
BEGIN:STANDARD
TZOFFSETFROM:-0500
TZOFFSETTO:-0600
DTSTART:20071104T020000
RRULE:FREQ=YEARLY;BYMONTH=11;BYDAY=1SU
TZNAME:CST
END:STANDARD
END:VTIMEZONE
BEGIN:VEVENT
UID:47a010c3-890e-42ac-9c16-4590334bde94.233643@calendar.missouristate.edu
CREATED:20240222T152557Z
LAST-MODIFIED:20240222T152557Z
LOCATION:Plaster Free Enterprise Center\, Robert W.
SUMMARY:Emotional Intelligence: The Ingredient for Effective Leaders
DESCRIPTION:Emotional Intelligence has been identified as the single most 
 important competency for effective leadership. According to Dan Goleman's
  groundbreaking book\,"Nothing else\, including gender\, education\, geog
 raphic area\, age\, or hours worked came as close to predicting success a
 s did emotional competencies." Competencies "that have been identified in
  internal research at hundreds of corporations and organizations as disti
 nguishing outstanding performers." Self-control is a vital ingredient for
  a meaningful\, satisfying life. Productive relationships can either flou
 rish or wither as a result of our ability\, or inability\, to exert contr
 ol over our behavior. By first understanding how emotions influence our b
 ehavior\, we can prevent negative emotions from driving us to behaviors w
 e later regret.
X-ALT-DESC;FMTTYPE=text/html:&lt;html&gt;&lt;head&gt;&lt;title&gt;&lt;/title&gt;&lt;/head&gt;&lt;body&gt;&lt;p&gt;&lt;s
 pan&gt;Emotional Intelligence has been identified as the single most importa
 nt competency for effective leadership. According to Dan Goleman's ground
 breaking book\,"Nothing else\, including gender\, education\, geographic 
 area\, age\, or hours worked came as close to predicting success as did e
 motional competencies." Competencies "that have been identified in intern
 al research at hundreds of corporations and organizations as distinguishi
 ng outstanding performers." Self-control is a vital ingredient for a mean
 ingful\, satisfying life. Productive relationships can either flourish or
  wither as a result of our ability\, or inability\, to exert control over
  our behavior. By first understanding how emotions influence our behavior
 \, we can prevent negative emotions from driving us to behaviors we later
  regret.&lt;/span&gt;&lt;/p&gt;&lt;/body&gt;&lt;/html&gt;
DTSTART;TZID=America/Chicago:20240307T090000
DTEND;TZID=America/Chicago:20240307T160000
SEQUENCE:0
URL:https://missouri.ecenterdirect.com/events/25011
CATEGORIES:Public
END:VEVENT
END:VCALENDAR