BEGIN:VCALENDAR
VERSION:2.0
METHOD:PUBLISH
PRODID:-//Missouri State University/Calendar of Events//EN
CALSCALE:GREGORIAN
X-WR-TIMEZONE:America/Chicago
BEGIN:VTIMEZONE
TZID:America/Chicago
BEGIN:DAYLIGHT
TZOFFSETFROM:-0600
TZOFFSETTO:-0500
DTSTART:20070311T020000
RRULE:FREQ=YEARLY;BYMONTH=3;BYDAY=2SU
TZNAME:CDT
END:DAYLIGHT
BEGIN:STANDARD
TZOFFSETFROM:-0500
TZOFFSETTO:-0600
DTSTART:20071104T020000
RRULE:FREQ=YEARLY;BYMONTH=11;BYDAY=1SU
TZNAME:CST
END:STANDARD
END:VTIMEZONE
BEGIN:VEVENT
UID:50e01f8c-bf9c-4b04-b438-fcf9253ce5b6.233649@calendar.missouristate.edu
CREATED:20240222T154751Z
LAST-MODIFIED:20240222T154751Z
LOCATION:Plaster Free Enterprise Center\, Robert W.
SUMMARY:The Power of Positive Teams
DESCRIPTION:Many organizations are feeling pressure due to the increased c
 ompetition for talent\, having fewer people to keep up\, and operating in
  a constant state of change. As a lack of connection deteriorates team cu
 lture and engagement\, remaining positive and avoiding the doom-and-gloom
  forecasts can be challenging. Building a positive\, people-first culture
  can help you tell (and create) a different story: that the best is yet t
 o come for your organization.The Power of Positive Teams workshop will he
 lp you build a stronger\, more united\, and connected team culture fueled
  by a shared vision and purpose. The trainer will use proven principles\,
  shared strategies and best practices from the Wall Street Journal Bestse
 lling Book by Jon Gordon.
X-ALT-DESC;FMTTYPE=text/html:&lt;html&gt;&lt;head&gt;&lt;title&gt;&lt;/title&gt;&lt;/head&gt;&lt;body&gt;&lt;p&gt;&lt;s
 pan&gt;Many organizations are feeling pressure due to the increased competit
 ion for talent\, having fewer people to keep up\, and operating in a cons
 tant state of change. As a lack of connection deteriorates team culture a
 nd engagement\, remaining positive and avoiding the doom-and-gloom foreca
 sts can be challenging. Building a positive\, people-first culture can he
 lp you tell (and create) a different story: that the best is yet to come 
 for your organization.&lt;br&gt;&lt;br&gt;The Power of Positive Teams workshop will h
 elp you build a stronger\, more united\, and connected team culture fuele
 d by a shared vision and purpose. The trainer will use proven principles\
 , shared strategies and best practices from the Wall Street Journal Bests
 elling Book by Jon Gordon.&lt;/span&gt;&lt;/p&gt;&lt;/body&gt;&lt;/html&gt;
DTSTART;TZID=America/Chicago:20240410T090000
DTEND;TZID=America/Chicago:20240410T160000
SEQUENCE:0
URL:https://missouri.ecenterdirect.com/events/25015
CATEGORIES:Public
END:VEVENT
END:VCALENDAR