BEGIN:VCALENDAR
VERSION:2.0
METHOD:PUBLISH
PRODID:-//Missouri State University/Calendar of Events//EN
CALSCALE:GREGORIAN
X-WR-TIMEZONE:America/Chicago
BEGIN:VTIMEZONE
TZID:America/Chicago
BEGIN:DAYLIGHT
TZOFFSETFROM:-0600
TZOFFSETTO:-0500
DTSTART:20070311T020000
RRULE:FREQ=YEARLY;BYMONTH=3;BYDAY=2SU
TZNAME:CDT
END:DAYLIGHT
BEGIN:STANDARD
TZOFFSETFROM:-0500
TZOFFSETTO:-0600
DTSTART:20071104T020000
RRULE:FREQ=YEARLY;BYMONTH=11;BYDAY=1SU
TZNAME:CST
END:STANDARD
END:VTIMEZONE
BEGIN:VEVENT
UID:f66e472b-cccf-431f-b545-2f76bdc14cc4.233655@calendar.missouristate.edu
CREATED:20240222T154844Z
LAST-MODIFIED:20240222T154844Z
LOCATION:Plaster Free Enterprise Center\, Robert W.
SUMMARY:Dynamic Communication Skills and Strategies
DESCRIPTION:Learn to communicate in a manner that builds trust\, teamwork 
 and consensus. Develop key skills that result in two-way communication\, 
 which is critical to a participative management style. Examine obstacles 
 to effective communication and learn to facilitate supportive communicati
 on with diverse individuals and groups.
X-ALT-DESC;FMTTYPE=text/html:&lt;html&gt;&lt;head&gt;&lt;title&gt;&lt;/title&gt;&lt;/head&gt;&lt;body&gt;&lt;p&gt;&lt;s
 pan&gt;Learn to communicate in a manner that builds trust\, teamwork and con
 sensus. Develop key skills that result in two-way communication\, which i
 s critical to a participative management style. Examine obstacles to effe
 ctive communication and learn to facilitate supportive communication with
  diverse individuals and groups.&lt;/span&gt;&lt;/p&gt;&lt;/body&gt;&lt;/html&gt;
DTSTART;TZID=America/Chicago:20240430T090000
DTEND;TZID=America/Chicago:20240430T160000
SEQUENCE:0
URL:https://missouri.ecenterdirect.com/events/24994
CATEGORIES:Public
END:VEVENT
END:VCALENDAR