BEGIN:VCALENDAR
VERSION:2.0
METHOD:PUBLISH
PRODID:-//Missouri State University/Calendar of Events//EN
CALSCALE:GREGORIAN
X-WR-TIMEZONE:America/Chicago
BEGIN:VTIMEZONE
TZID:America/Chicago
BEGIN:DAYLIGHT
TZOFFSETFROM:-0600
TZOFFSETTO:-0500
DTSTART:20070311T020000
RRULE:FREQ=YEARLY;BYMONTH=3;BYDAY=2SU
TZNAME:CDT
END:DAYLIGHT
BEGIN:STANDARD
TZOFFSETFROM:-0500
TZOFFSETTO:-0600
DTSTART:20071104T020000
RRULE:FREQ=YEARLY;BYMONTH=11;BYDAY=1SU
TZNAME:CST
END:STANDARD
END:VTIMEZONE
BEGIN:VEVENT
UID:85172208-2959-4f10-a7f4-eb4134bbdc50_11115@calendar.missouristate.edu
CREATED:20240117T200211Z
LAST-MODIFIED:20240117T200211Z
LOCATION:Craig Hall Coger Theatre
SUMMARY:A Killer Party: A Murder Mystery Musical
DESCRIPTION:Music by Jason HowlandLyrics by Nathan TysenBook by Rachel Axl
 er and Kait KerriganDirected by Sarah WilcoxonVarthur McArthur\, the tyra
 nnical artistic director of a failing theater in Duluth\, invites the com
 pany to his home for a murder mystery dinner party — but soon Varthur him
 self is face-down in his soup! Luckily\, Detective Justine Case is on the
  case\, uncovering secret affairs\, life-long grudges\, back-stage drama 
 and a school of red herrings. Conceived during the 2020 COVID lockdowns a
 s a digitally produced\, remotely performed streaming series\, A Killer P
 arty: A Murder Mystery Musical mixes a clever plot\, eccentric characters
 \, madcap comedy and song-and-dance numbers into an irreverent and hilari
 ous whodunnit!
X-ALT-DESC;FMTTYPE=text/html:&lt;html&gt;&lt;head&gt;&lt;title&gt;&lt;/title&gt;&lt;/head&gt;&lt;body&gt;&lt;p&gt;Mu
 sic by Jason Howland&lt;br&gt;Lyrics by Nathan Tysen&lt;br&gt;Book by Rachel Axler an
 d Kait Kerrigan&lt;br&gt;&lt;br&gt;Directed by Sarah Wilcoxon&lt;br&gt;&lt;br&gt;Varthur McArthur
 \, the tyrannical artistic director of a failing theater in Duluth\, invi
 tes the company to his home for a murder mystery dinner party — but soon 
 Varthur himself is face-down in his soup! Luckily\, Detective Justine Cas
 e is on the case\, uncovering secret affairs\, life-long grudges\, back-s
 tage drama and a school of red herrings. Conceived during the 2020 COVID 
 lockdowns as a digitally produced\, remotely performed streaming series\,
  A Killer Party: A Murder Mystery Musical mixes a clever plot\, eccentric
  characters\, madcap comedy and song-and-dance numbers into an irreverent
  and hilarious whodunnit!&lt;/p&gt;\n&lt;pre&gt;&lt;/pre&gt;&lt;/body&gt;&lt;/html&gt;
DTSTART;TZID=America/Chicago:20240411T193000
DTEND;TZID=America/Chicago:20240411T213000
RRULE:FREQ=DAILY;UNTIL=20240415
SEQUENCE:0
URL:122788.jpg
CATEGORIES:Public,Alumni,Current Students,Faculty,Future Students,Staff
END:VEVENT
BEGIN:VEVENT
UID:85172208-2959-4f10-a7f4-eb4134bbdc50_11116@calendar.missouristate.edu
CREATED:20240117T200211Z
LAST-MODIFIED:20240117T200211Z
LOCATION:Craig Hall Coger Theatre
SUMMARY:A Killer Party: A Murder Mystery Musical
DESCRIPTION:Music by Jason HowlandLyrics by Nathan TysenBook by Rachel Axl
 er and Kait KerriganDirected by Sarah WilcoxonVarthur McArthur\, the tyra
 nnical artistic director of a failing theater in Duluth\, invites the com
 pany to his home for a murder mystery dinner party — but soon Varthur him
 self is face-down in his soup! Luckily\, Detective Justine Case is on the
  case\, uncovering secret affairs\, life-long grudges\, back-stage drama 
 and a school of red herrings. Conceived during the 2020 COVID lockdowns a
 s a digitally produced\, remotely performed streaming series\, A Killer P
 arty: A Murder Mystery Musical mixes a clever plot\, eccentric characters
 \, madcap comedy and song-and-dance numbers into an irreverent and hilari
 ous whodunnit!
X-ALT-DESC;FMTTYPE=text/html:&lt;html&gt;&lt;head&gt;&lt;title&gt;&lt;/title&gt;&lt;/head&gt;&lt;body&gt;&lt;p&gt;Mu
 sic by Jason Howland&lt;br&gt;Lyrics by Nathan Tysen&lt;br&gt;Book by Rachel Axler an
 d Kait Kerrigan&lt;br&gt;&lt;br&gt;Directed by Sarah Wilcoxon&lt;br&gt;&lt;br&gt;Varthur McArthur
 \, the tyrannical artistic director of a failing theater in Duluth\, invi
 tes the company to his home for a murder mystery dinner party — but soon 
 Varthur himself is face-down in his soup! Luckily\, Detective Justine Cas
 e is on the case\, uncovering secret affairs\, life-long grudges\, back-s
 tage drama and a school of red herrings. Conceived during the 2020 COVID 
 lockdowns as a digitally produced\, remotely performed streaming series\,
  A Killer Party: A Murder Mystery Musical mixes a clever plot\, eccentric
  characters\, madcap comedy and song-and-dance numbers into an irreverent
  and hilarious whodunnit!&lt;/p&gt;\n&lt;pre&gt;&lt;/pre&gt;&lt;/body&gt;&lt;/html&gt;
DTSTART;TZID=America/Chicago:20240413T143000
DTEND;TZID=America/Chicago:20240413T163000
RRULE:FREQ=DAILY;UNTIL=20240415
SEQUENCE:0
URL:122788.jpg
CATEGORIES:Public,Alumni,Current Students,Faculty,Future Students,Staff
END:VEVENT
END:VCALENDAR