BEGIN:VCALENDAR
VERSION:2.0
METHOD:PUBLISH
PRODID:-//Missouri State University/Calendar of Events//EN
CALSCALE:GREGORIAN
X-WR-TIMEZONE:America/Chicago
BEGIN:VTIMEZONE
TZID:America/Chicago
BEGIN:DAYLIGHT
TZOFFSETFROM:-0600
TZOFFSETTO:-0500
DTSTART:20070311T020000
RRULE:FREQ=YEARLY;BYMONTH=3;BYDAY=2SU
TZNAME:CDT
END:DAYLIGHT
BEGIN:STANDARD
TZOFFSETFROM:-0500
TZOFFSETTO:-0600
DTSTART:20071104T020000
RRULE:FREQ=YEARLY;BYMONTH=11;BYDAY=1SU
TZNAME:CST
END:STANDARD
END:VTIMEZONE
BEGIN:VEVENT
UID:e9e2bd81-2d4d-43bb-8604-ccc44fbbcc20_11117@calendar.missouristate.edu
CREATED:20240222T155045Z
LAST-MODIFIED:20240222T155045Z
LOCATION:Plaster Free Enterprise Center\, Robert W.
SUMMARY:Supervision Boot Camp: Frontline Series - Four-Day Program
DESCRIPTION:Supervisors today face a world of tremendous change and challe
 nge. This program is designed for new and experienced supervisors and man
 agers who want to keep their knowledge and skill consistent with or a ste
 p ahead of the demands of the workplace. The "Boot Camp" has been designe
 d to build skills in the basic competencies that supervisors need most in
  leading employee's to greater individual\, team and organizational perfo
 rmance.
X-ALT-DESC;FMTTYPE=text/html:&lt;html&gt;&lt;head&gt;&lt;title&gt;&lt;/title&gt;&lt;/head&gt;&lt;body&gt;&lt;p&gt;&lt;s
 pan&gt;Supervisors today face a world of tremendous change and challenge. Th
 is program is designed for new and experienced supervisors and managers w
 ho want to keep their knowledge and skill consistent with or a step ahead
  of the demands of the workplace. The "Boot Camp" has been designed to bu
 ild skills in the basic competencies that supervisors need most in leadin
 g employee's to greater individual\, team and organizational performance.
 &lt;/span&gt;&lt;/p&gt;&lt;/body&gt;&lt;/html&gt;
DTSTART;TZID=America/Chicago:20240415T090000
DTEND;TZID=America/Chicago:20240415T160000
RRULE:FREQ=DAILY;UNTIL=20240419
SEQUENCE:0
URL:https://missouri.ecenterdirect.com/events/24972
CATEGORIES:Public
END:VEVENT
END:VCALENDAR