BEGIN:VCALENDAR
VERSION:2.0
METHOD:PUBLISH
PRODID:-//Missouri State University/Calendar of Events//EN
CALSCALE:GREGORIAN
X-WR-TIMEZONE:America/Chicago
BEGIN:VTIMEZONE
TZID:America/Chicago
BEGIN:DAYLIGHT
TZOFFSETFROM:-0600
TZOFFSETTO:-0500
DTSTART:20070311T020000
RRULE:FREQ=YEARLY;BYMONTH=3;BYDAY=2SU
TZNAME:CDT
END:DAYLIGHT
BEGIN:STANDARD
TZOFFSETFROM:-0500
TZOFFSETTO:-0600
DTSTART:20071104T020000
RRULE:FREQ=YEARLY;BYMONTH=11;BYDAY=1SU
TZNAME:CST
END:STANDARD
END:VTIMEZONE
BEGIN:VEVENT
UID:64b72bfd-948a-4896-975c-a3ca7201451d_11118@calendar.missouristate.edu
CREATED:20240117T195937Z
LAST-MODIFIED:20240117T195937Z
LOCATION:Craig Hall Coger Theatre
SUMMARY:Spring Dance Concert: Movement Mechanized
DESCRIPTION:Coordinated by Azaria HogansWhen observing birds in flight\, w
 e marvel at the beauty\, grace and precision of seemingly effortless move
 ment\, seldom thinking of the structure of the wings or the mechanics of 
 executing complex aerial maneuvers. So it is with dance\, where the biome
 chanical principles of motion\, force\, momentum\, leverage and balance m
 ake possible the expression of intense emotions\, abstract ideas and comp
 lex stories in physical form.\n\n\nIn this year’s Spring Dance Concert: M
 ovement Mechanized\, we explore the process of human locomotion through a
  collection of fresh\, original works in a mix of dance styles\, each com
 position a piece of kinetic art!
X-ALT-DESC;FMTTYPE=text/html:&lt;html&gt;&lt;head&gt;&lt;title&gt;&lt;/title&gt;&lt;/head&gt;&lt;body&gt;&lt;pre&gt;
 &lt;/pre&gt;\n&lt;p&gt;Coordinated by Azaria Hogans&lt;br&gt;&lt;br&gt;When observing birds in fl
 ight\, we marvel at the beauty\, grace and precision of seemingly effortl
 ess movement\, seldom thinking of the structure of the wings or the mecha
 nics of executing complex aerial maneuvers. So it is with dance\, where t
 he biomechanical principles of motion\, force\, momentum\, leverage and b
 alance make possible the expression of intense emotions\, abstract ideas 
 and complex stories in physical form.&lt;/p&gt;\n&lt;p&gt;In this year’s Spring Dance
  Concert: Movement Mechanized\, we explore the process of human locomotio
 n through a collection of fresh\, original works in a mix of dance styles
 \, each composition a piece of kinetic art!&lt;/p&gt;&lt;/body&gt;&lt;/html&gt;
DTSTART;TZID=America/Chicago:20240425T193000
DTEND;TZID=America/Chicago:20240425T213000
RRULE:FREQ=DAILY;UNTIL=20240428
SEQUENCE:0
URL:122790.jpg
CATEGORIES:Public,Alumni,Current Students,Faculty,Future Students,Staff
END:VEVENT
BEGIN:VEVENT
UID:64b72bfd-948a-4896-975c-a3ca7201451d.233669@calendar.missouristate.edu
CREATED:20240117T195937Z
LAST-MODIFIED:20240117T195937Z
LOCATION:Craig Hall Coger Theatre
SUMMARY:Spring Dance Concert: Movement Mechanized
DESCRIPTION:Coordinated by Azaria HogansWhen observing birds in flight\, w
 e marvel at the beauty\, grace and precision of seemingly effortless move
 ment\, seldom thinking of the structure of the wings or the mechanics of 
 executing complex aerial maneuvers. So it is with dance\, where the biome
 chanical principles of motion\, force\, momentum\, leverage and balance m
 ake possible the expression of intense emotions\, abstract ideas and comp
 lex stories in physical form.\n\n\nIn this year’s Spring Dance Concert: M
 ovement Mechanized\, we explore the process of human locomotion through a
  collection of fresh\, original works in a mix of dance styles\, each com
 position a piece of kinetic art!
X-ALT-DESC;FMTTYPE=text/html:&lt;html&gt;&lt;head&gt;&lt;title&gt;&lt;/title&gt;&lt;/head&gt;&lt;body&gt;&lt;pre&gt;
 &lt;/pre&gt;\n&lt;p&gt;Coordinated by Azaria Hogans&lt;br&gt;&lt;br&gt;When observing birds in fl
 ight\, we marvel at the beauty\, grace and precision of seemingly effortl
 ess movement\, seldom thinking of the structure of the wings or the mecha
 nics of executing complex aerial maneuvers. So it is with dance\, where t
 he biomechanical principles of motion\, force\, momentum\, leverage and b
 alance make possible the expression of intense emotions\, abstract ideas 
 and complex stories in physical form.&lt;/p&gt;\n&lt;p&gt;In this year’s Spring Dance
  Concert: Movement Mechanized\, we explore the process of human locomotio
 n through a collection of fresh\, original works in a mix of dance styles
 \, each composition a piece of kinetic art!&lt;/p&gt;&lt;/body&gt;&lt;/html&gt;
DTSTART;TZID=America/Chicago:20240428T143000
DTEND;TZID=America/Chicago:20240428T163000
SEQUENCE:0
URL:122790.jpg
CATEGORIES:Public,Alumni,Current Students,Faculty,Future Students,Staff
END:VEVENT
END:VCALENDAR