BEGIN:VCALENDAR
VERSION:2.0
METHOD:PUBLISH
PRODID:-//Missouri State University/Calendar of Events//EN
CALSCALE:GREGORIAN
X-WR-TIMEZONE:America/Chicago
BEGIN:VTIMEZONE
TZID:America/Chicago
BEGIN:DAYLIGHT
TZOFFSETFROM:-0600
TZOFFSETTO:-0500
DTSTART:20070311T020000
RRULE:FREQ=YEARLY;BYMONTH=3;BYDAY=2SU
TZNAME:CDT
END:DAYLIGHT
BEGIN:STANDARD
TZOFFSETFROM:-0500
TZOFFSETTO:-0600
DTSTART:20071104T020000
RRULE:FREQ=YEARLY;BYMONTH=11;BYDAY=1SU
TZNAME:CST
END:STANDARD
END:VTIMEZONE
BEGIN:VEVENT
UID:5fa8a333-ac0c-47d5-9d22-18f6147ed9e9.233702@calendar.missouristate.edu
CREATED:20240116T150029Z
LAST-MODIFIED:20240116T150029Z
LOCATION:Plaster Student Union\, Robert W. 2nd Floor Atrium
SUMMARY:SP24 Student Involvement Fair
DESCRIPTION:Come out to the PSU's Atrium (located on the second floor) to 
 learn about some of the great organizations we have at Missouri State and
  how you can get involved.
X-ALT-DESC;FMTTYPE=text/html:&lt;html&gt;&lt;head&gt;&lt;title&gt;&lt;/title&gt;&lt;/head&gt;&lt;body&gt;&lt;p&gt;Co
 me out to the PSU's Atrium (located on the second floor) to learn about s
 ome of the great organizations we have at Missouri State and how you can 
 get involved.&lt;/p&gt;&lt;/body&gt;&lt;/html&gt;
DTSTART;TZID=America/Chicago:20240124T110000
DTEND;TZID=America/Chicago:20240124T140000
SEQUENCE:0
URL:
CATEGORIES:Public,Current Students,Faculty,Future Students,Staff
END:VEVENT
END:VCALENDAR