BEGIN:VCALENDAR
VERSION:2.0
METHOD:PUBLISH
PRODID:-//Missouri State University/Calendar of Events//EN
CALSCALE:GREGORIAN
X-WR-TIMEZONE:America/Chicago
BEGIN:VTIMEZONE
TZID:America/Chicago
BEGIN:DAYLIGHT
TZOFFSETFROM:-0600
TZOFFSETTO:-0500
DTSTART:20070311T020000
RRULE:FREQ=YEARLY;BYMONTH=3;BYDAY=2SU
TZNAME:CDT
END:DAYLIGHT
BEGIN:STANDARD
TZOFFSETFROM:-0500
TZOFFSETTO:-0600
DTSTART:20071104T020000
RRULE:FREQ=YEARLY;BYMONTH=11;BYDAY=1SU
TZNAME:CST
END:STANDARD
END:VTIMEZONE
BEGIN:VEVENT
UID:400530e0-30a2-41c1-ade6-cecbaee718e6.233704@calendar.missouristate.edu
CREATED:20240112T210954Z
LAST-MODIFIED:20240112T210954Z
LOCATION:Roy Blunt Hall 345
SUMMARY:SEES Seminar - "BS Geology: Firm Foundation for a Unique Career &amp; 
 Life Path"
DESCRIPTION:A BS in Geology can lead to a surprising and exciting career a
 nd life path! Meet an alumna who overcame disppointments to forge a uniqu
 e and exciting journey that continues today - all grounded on the firm fo
 undation laid in completing an undergraduate degree from MSU.\n\n\nDebora
  Barr graduated from Southwest Missouri State University with a Bachelor 
 of Science\, Geology in 1986. Her career and life path included more than
  28 years of service in the armed and uniformed services\, enabling her t
 o live and travel abroad\, experience wild animals in their natural habit
 at and serve for and alongside famous trailblazers. She is pursuing her f
 ourth graduate degree\, a doctoral degree\, building on the foundation of
  her BS in Geology. Today\, she is an associate pastor\, author\, podcast
 er and speaker. She is excited to experience what is next for her life!
X-ALT-DESC;FMTTYPE=text/html:&lt;html&gt;&lt;head&gt;&lt;title&gt;&lt;/title&gt;&lt;/head&gt;&lt;body&gt;&lt;p&gt;A 
 BS in Geology can lead to a surprising and exciting career and life path!
  Meet an alumna who overcame disppointments to forge a unique and excitin
 g journey that continues today - all grounded on the firm foundation laid
  in completing an undergraduate degree from MSU.&lt;/p&gt;\n&lt;p&gt;&lt;a href="https:/
 /dbarrministries.org/"&gt;Debora Barr&lt;/a&gt;&amp;nbsp\;graduated from Southwest Mis
 souri State University with a Bachelor of Science\, Geology in 1986. Her 
 career and life path included more than 28 years of service in the armed 
 and uniformed services\, enabling her to live and travel abroad\, experie
 nce wild animals in their natural habitat and serve for and alongside fam
 ous trailblazers. She is pursuing her fourth graduate degree\, a doctoral
  degree\, building on the foundation of her BS in Geology. Today\, she is
  an associate pastor\, author\, podcaster and speaker. She is excited to 
 experience what is next for her life!&lt;/p&gt;&lt;/body&gt;&lt;/html&gt;
DTSTART;TZID=America/Chicago:20240223T143000
DTEND;TZID=America/Chicago:20240223T153000
SEQUENCE:0
URL:http://www.geosciences.missouristate.edu
CATEGORIES:Public,Alumni,Current Students,Faculty,Future Students
END:VEVENT
END:VCALENDAR