BEGIN:VCALENDAR
VERSION:2.0
METHOD:PUBLISH
PRODID:-//Missouri State University/Calendar of Events//EN
CALSCALE:GREGORIAN
X-WR-TIMEZONE:America/Chicago
BEGIN:VTIMEZONE
TZID:America/Chicago
BEGIN:DAYLIGHT
TZOFFSETFROM:-0600
TZOFFSETTO:-0500
DTSTART:20070311T020000
RRULE:FREQ=YEARLY;BYMONTH=3;BYDAY=2SU
TZNAME:CDT
END:DAYLIGHT
BEGIN:STANDARD
TZOFFSETFROM:-0500
TZOFFSETTO:-0600
DTSTART:20071104T020000
RRULE:FREQ=YEARLY;BYMONTH=11;BYDAY=1SU
TZNAME:CST
END:STANDARD
END:VTIMEZONE
BEGIN:VEVENT
UID:f92ae852-ffed-4a41-b128-77366c66dbb3.233778@calendar.missouristate.edu
CREATED:20240118T194133Z
LAST-MODIFIED:20240118T194133Z
LOCATION:Plaster Student Union\, Robert W. PSU Food Court
SUMMARY:I Heart SAC Karaoke
DESCRIPTION:Join SAC for a night of karaoke with rootbeer and strawberry f
 loats and a chance to win various $20 giftcards in a prize giveaway!
X-ALT-DESC;FMTTYPE=text/html:&lt;html&gt;&lt;head&gt;&lt;title&gt;&lt;/title&gt;&lt;/head&gt;&lt;body&gt;&lt;p&gt;Jo
 in SAC for a night of karaoke with rootbeer and strawberry floats and a c
 hance to win various $20 giftcards in a prize giveaway!&lt;/p&gt;&lt;/body&gt;&lt;/html&gt;
DTSTART;TZID=America/Chicago:20240214T180000
DTEND;TZID=America/Chicago:20240214T200000
SEQUENCE:0
URL:https://calendar.missouristate.edu/viewevent.aspx?eventid=122811&amp;occur
 renceid=233778
CATEGORIES:Public,Current Students
END:VEVENT
END:VCALENDAR