BEGIN:VCALENDAR
VERSION:2.0
METHOD:PUBLISH
PRODID:-//Missouri State University/Calendar of Events//EN
CALSCALE:GREGORIAN
X-WR-TIMEZONE:America/Chicago
BEGIN:VTIMEZONE
TZID:America/Chicago
BEGIN:DAYLIGHT
TZOFFSETFROM:-0600
TZOFFSETTO:-0500
DTSTART:20070311T020000
RRULE:FREQ=YEARLY;BYMONTH=3;BYDAY=2SU
TZNAME:CDT
END:DAYLIGHT
BEGIN:STANDARD
TZOFFSETFROM:-0500
TZOFFSETTO:-0600
DTSTART:20071104T020000
RRULE:FREQ=YEARLY;BYMONTH=11;BYDAY=1SU
TZNAME:CST
END:STANDARD
END:VTIMEZONE
BEGIN:VEVENT
UID:4e931ea5-dbac-494d-b6b5-8e0779d693dd.233781@calendar.missouristate.edu
CREATED:20240118T194634Z
LAST-MODIFIED:20240118T194634Z
LOCATION:Plaster Student Union\, Robert W. Theater\, Room 200
SUMMARY:SAC Film: Bottoms
DESCRIPTION:Free fruit and dip bar! Enter to win a free Lego tiny plants s
 et and a self-defense kit!
X-ALT-DESC;FMTTYPE=text/html:&lt;html&gt;&lt;head&gt;&lt;title&gt;&lt;/title&gt;&lt;/head&gt;&lt;body&gt;&lt;p&gt;Fr
 ee fruit and dip bar! Enter to win a free Lego tiny plants set and a self
 -defense kit!&lt;/p&gt;&lt;/body&gt;&lt;/html&gt;
DTSTART;TZID=America/Chicago:20240216T180000
DTEND;TZID=America/Chicago:20240216T200000
SEQUENCE:0
URL:https://calendar.missouristate.edu/viewevent.aspx?eventid=122814&amp;occur
 renceid=233781
CATEGORIES:Public,Current Students
END:VEVENT
END:VCALENDAR