BEGIN:VCALENDAR
VERSION:2.0
METHOD:PUBLISH
PRODID:-//Missouri State University/Calendar of Events//EN
CALSCALE:GREGORIAN
X-WR-TIMEZONE:America/Chicago
BEGIN:VTIMEZONE
TZID:America/Chicago
BEGIN:DAYLIGHT
TZOFFSETFROM:-0600
TZOFFSETTO:-0500
DTSTART:20070311T020000
RRULE:FREQ=YEARLY;BYMONTH=3;BYDAY=2SU
TZNAME:CDT
END:DAYLIGHT
BEGIN:STANDARD
TZOFFSETFROM:-0500
TZOFFSETTO:-0600
DTSTART:20071104T020000
RRULE:FREQ=YEARLY;BYMONTH=11;BYDAY=1SU
TZNAME:CST
END:STANDARD
END:VTIMEZONE
BEGIN:VEVENT
UID:a43bcf2e-c261-4c96-9bd1-396d9b2ac05a.233783@calendar.missouristate.edu
CREATED:20240118T200144Z
LAST-MODIFIED:20240118T200144Z
LOCATION:Plaster Student Union\, Robert W. Theater\, Room 200
SUMMARY:Drag Queen Bingo
DESCRIPTION:Join SAC for a night of bingo and performances by drag queens 
 Miss Kinky Kitty and Sarag Tonin.\n\n\nFree food and a chance to win priz
 es such as gift cards\, a 32" Roku TV\, and more!\n\n\nCheck out @mostate
 sac for a full list of prizes.
X-ALT-DESC;FMTTYPE=text/html:&lt;html&gt;&lt;head&gt;&lt;title&gt;&lt;/title&gt;&lt;/head&gt;&lt;body&gt;&lt;p&gt;Jo
 in SAC for a night of bingo and performances by drag queens Miss Kinky Ki
 tty and Sarag Tonin.&lt;/p&gt;\n&lt;p&gt;Free food and a chance to win prizes such as
  gift cards\, a 32" Roku TV\, and more!&lt;/p&gt;\n&lt;p&gt;Check out @mostatesac for
  a full list of prizes.&lt;/p&gt;&lt;/body&gt;&lt;/html&gt;
DTSTART;TZID=America/Chicago:20240228T190000
DTEND;TZID=America/Chicago:20240228T220000
SEQUENCE:0
URL:
CATEGORIES:Current Students
END:VEVENT
END:VCALENDAR