BEGIN:VCALENDAR
VERSION:2.0
METHOD:PUBLISH
PRODID:-//Missouri State University/Calendar of Events//EN
CALSCALE:GREGORIAN
X-WR-TIMEZONE:America/Chicago
BEGIN:VTIMEZONE
TZID:America/Chicago
BEGIN:DAYLIGHT
TZOFFSETFROM:-0600
TZOFFSETTO:-0500
DTSTART:20070311T020000
RRULE:FREQ=YEARLY;BYMONTH=3;BYDAY=2SU
TZNAME:CDT
END:DAYLIGHT
BEGIN:STANDARD
TZOFFSETFROM:-0500
TZOFFSETTO:-0600
DTSTART:20071104T020000
RRULE:FREQ=YEARLY;BYMONTH=11;BYDAY=1SU
TZNAME:CST
END:STANDARD
END:VTIMEZONE
BEGIN:VEVENT
UID:6b6f997d-26da-4140-b2e0-1d26a17be37f.233784@calendar.missouristate.edu
CREATED:20240118T200749Z
LAST-MODIFIED:20240118T200749Z
LOCATION:Plaster Student Union\, Robert W. North Lawn
SUMMARY:'Take a Paws' with Bear Power VA Office
DESCRIPTION:Relax with SAC with some therapy dogs -- feed them treats or j
 ust play!\n\n\nFree paw print iced cookies!
X-ALT-DESC;FMTTYPE=text/html:&lt;html&gt;&lt;head&gt;&lt;title&gt;&lt;/title&gt;&lt;/head&gt;&lt;body&gt;&lt;p&gt;Re
 lax with SAC with some therapy dogs -- feed them treats or just play!&lt;/p&gt;
 \n&lt;p&gt;Free paw print iced cookies!&lt;/p&gt;&lt;/body&gt;&lt;/html&gt;
DTSTART;TZID=America/Chicago:20240305T110000
DTEND;TZID=America/Chicago:20240305T140000
SEQUENCE:0
URL:https://calendar.missouristate.edu/viewevent.aspx?eventid=122817&amp;occur
 renceid=233784
CATEGORIES:Public,Current Students
END:VEVENT
END:VCALENDAR