BEGIN:VCALENDAR
VERSION:2.0
METHOD:PUBLISH
PRODID:-//Missouri State University/Calendar of Events//EN
CALSCALE:GREGORIAN
X-WR-TIMEZONE:America/Chicago
BEGIN:VTIMEZONE
TZID:America/Chicago
BEGIN:DAYLIGHT
TZOFFSETFROM:-0600
TZOFFSETTO:-0500
DTSTART:20070311T020000
RRULE:FREQ=YEARLY;BYMONTH=3;BYDAY=2SU
TZNAME:CDT
END:DAYLIGHT
BEGIN:STANDARD
TZOFFSETFROM:-0500
TZOFFSETTO:-0600
DTSTART:20071104T020000
RRULE:FREQ=YEARLY;BYMONTH=11;BYDAY=1SU
TZNAME:CST
END:STANDARD
END:VTIMEZONE
BEGIN:VEVENT
UID:dce5275a-770c-4329-a5ee-d9839a22029e.233786@calendar.missouristate.edu
CREATED:20240118T212452Z
LAST-MODIFIED:20240118T212452Z
LOCATION:Plaster Student Union\, Robert W. Grand Ballroom
SUMMARY:Laser Tag Night
DESCRIPTION:Come enjoy a night of laser tag with SAC.\n\n\n\n\n\nMore deta
 ils @mostatesac on Instagram.
X-ALT-DESC;FMTTYPE=text/html:&lt;html&gt;&lt;head&gt;&lt;title&gt;&lt;/title&gt;&lt;/head&gt;&lt;body&gt;&lt;p&gt;Co
 me enjoy a night of laser tag with SAC.&lt;/p&gt;\n&lt;p&gt;&lt;/p&gt;\n&lt;p&gt;More details @mo
 statesac on Instagram.&lt;/p&gt;&lt;/body&gt;&lt;/html&gt;
DTSTART;TZID=America/Chicago:20240307T190000
DTEND;TZID=America/Chicago:20240307T220000
SEQUENCE:0
URL:https://calendar.missouristate.edu/viewevent.aspx?eventid=122819&amp;occur
 renceid=233786
CATEGORIES:Public,Current Students
END:VEVENT
END:VCALENDAR