BEGIN:VCALENDAR
VERSION:2.0
METHOD:PUBLISH
PRODID:-//Missouri State University/Calendar of Events//EN
CALSCALE:GREGORIAN
X-WR-TIMEZONE:America/Chicago
BEGIN:VTIMEZONE
TZID:America/Chicago
BEGIN:DAYLIGHT
TZOFFSETFROM:-0600
TZOFFSETTO:-0500
DTSTART:20070311T020000
RRULE:FREQ=YEARLY;BYMONTH=3;BYDAY=2SU
TZNAME:CDT
END:DAYLIGHT
BEGIN:STANDARD
TZOFFSETFROM:-0500
TZOFFSETTO:-0600
DTSTART:20071104T020000
RRULE:FREQ=YEARLY;BYMONTH=11;BYDAY=1SU
TZNAME:CST
END:STANDARD
END:VTIMEZONE
BEGIN:VEVENT
UID:a7292100-4ca1-46b3-82c3-abe362aa998f.233890@calendar.missouristate.edu
CREATED:20240118T214818Z
LAST-MODIFIED:20240118T214818Z
LOCATION:Plaster Student Union\, Robert W. Theater\, Room 200
SUMMARY:Oscars Watch Party
DESCRIPTION:Join SAC in watching the Oscars "live" from campus!\n\n\nEnjoy
  free food and sit back to watch the show. More info soon @mostatesac on 
 Instagram. 
X-ALT-DESC;FMTTYPE=text/html:&lt;html&gt;&lt;head&gt;&lt;title&gt;&lt;/title&gt;&lt;/head&gt;&lt;body&gt;&lt;p&gt;Jo
 in SAC in watching the Oscars "live" from campus!&lt;/p&gt;\n&lt;p&gt;Enjoy free food
  and sit back to watch the show. More info soon @mostatesac on Instagram.
 &amp;nbsp\;&lt;/p&gt;&lt;/body&gt;&lt;/html&gt;
DTSTART;TZID=America/Chicago:20240321T190000
DTEND;TZID=America/Chicago:20240321T220000
SEQUENCE:0
URL:
CATEGORIES:Public,Current Students
END:VEVENT
END:VCALENDAR