BEGIN:VCALENDAR
VERSION:2.0
METHOD:PUBLISH
PRODID:-//Missouri State University/Calendar of Events//EN
CALSCALE:GREGORIAN
X-WR-TIMEZONE:America/Chicago
BEGIN:VTIMEZONE
TZID:America/Chicago
BEGIN:DAYLIGHT
TZOFFSETFROM:-0600
TZOFFSETTO:-0500
DTSTART:20070311T020000
RRULE:FREQ=YEARLY;BYMONTH=3;BYDAY=2SU
TZNAME:CDT
END:DAYLIGHT
BEGIN:STANDARD
TZOFFSETFROM:-0500
TZOFFSETTO:-0600
DTSTART:20071104T020000
RRULE:FREQ=YEARLY;BYMONTH=11;BYDAY=1SU
TZNAME:CST
END:STANDARD
END:VTIMEZONE
BEGIN:VEVENT
UID:74c8e345-836b-4c7a-8006-a673ad2b43dc.233892@calendar.missouristate.edu
CREATED:20240118T214955Z
LAST-MODIFIED:20240118T214955Z
LOCATION:Plaster Student Union\, Robert W. Theater\, Room 200
SUMMARY:Behind The Screens
DESCRIPTION:Join SAC for our annual Behind the Screens event!\n\n\nWe'll h
 ave an actor from an iconic role here to answer your questions. More info
  soon @mostatesac on Instagram.
X-ALT-DESC;FMTTYPE=text/html:&lt;html&gt;&lt;head&gt;&lt;title&gt;&lt;/title&gt;&lt;/head&gt;&lt;body&gt;&lt;p&gt;Jo
 in SAC for our annual Behind the Screens event!&lt;/p&gt;\n&lt;p&gt;We'll have an act
 or from an iconic role here to answer your questions. More info soon @mos
 tatesac on Instagram.&lt;/p&gt;&lt;/body&gt;&lt;/html&gt;
DTSTART;TZID=America/Chicago:20240320T190000
DTEND;TZID=America/Chicago:20240320T200000
SEQUENCE:0
URL:https://calendar.missouristate.edu/viewevent.aspx?eventid=122823&amp;occur
 renceid=233892
CATEGORIES:Current Students
END:VEVENT
END:VCALENDAR